BEGIN:VCALENDAR
VERSION:2.0
PRODID:-//Churchstpub - ECPv6.15.16//NONSGML v1.0//EN
CALSCALE:GREGORIAN
METHOD:PUBLISH
X-WR-CALNAME:Churchstpub
X-ORIGINAL-URL:https://churchstpub.com
X-WR-CALDESC:Events for Churchstpub
REFRESH-INTERVAL;VALUE=DURATION:PT1H
X-Robots-Tag:noindex
X-PUBLISHED-TTL:PT1H
BEGIN:VTIMEZONE
TZID:America/New_York
BEGIN:DAYLIGHT
TZOFFSETFROM:-0500
TZOFFSETTO:-0400
TZNAME:EDT
DTSTART:20240310T070000
END:DAYLIGHT
BEGIN:STANDARD
TZOFFSETFROM:-0400
TZOFFSETTO:-0500
TZNAME:EST
DTSTART:20241103T060000
END:STANDARD
BEGIN:DAYLIGHT
TZOFFSETFROM:-0500
TZOFFSETTO:-0400
TZNAME:EDT
DTSTART:20250309T070000
END:DAYLIGHT
BEGIN:STANDARD
TZOFFSETFROM:-0400
TZOFFSETTO:-0500
TZNAME:EST
DTSTART:20251102T060000
END:STANDARD
BEGIN:DAYLIGHT
TZOFFSETFROM:-0500
TZOFFSETTO:-0400
TZNAME:EDT
DTSTART:20260308T070000
END:DAYLIGHT
BEGIN:STANDARD
TZOFFSETFROM:-0400
TZOFFSETTO:-0500
TZNAME:EST
DTSTART:20261101T060000
END:STANDARD
END:VTIMEZONE
BEGIN:VEVENT
DTSTART;VALUE=DATE:20250218
DTEND;VALUE=DATE:20250219
DTSTAMP:20260419T173005
CREATED:20250130T143746Z
LAST-MODIFIED:20250206T163938Z
UID:71496-1739836800-1739923199@churchstpub.com
SUMMARY:TRIVIA NIGHT - Every Tuesday **Reservation Required**
DESCRIPTION:
URL:https://churchstpub.com/eventscalendar/trivia-night-every-tuesday-night-reservation-required-3/
LOCATION:Church St. Pub\, 552 rue de l’Église\, Verdun\, Quebec\, H4G 3E4\, Canada
ATTACH;FMTTYPE=image/jpeg:https://churchstpub.com/wp-content/uploads/2025/01/trivia_night01.jpg
END:VEVENT
BEGIN:VEVENT
DTSTART;VALUE=DATE:20250217
DTEND;VALUE=DATE:20250218
DTSTAMP:20260419T173005
CREATED:20250130T143240Z
LAST-MODIFIED:20250206T163957Z
UID:71492-1739750400-1739836799@churchstpub.com
SUMMARY:FREE POOL ALL DAY - Every Monday
DESCRIPTION:
URL:https://churchstpub.com/eventscalendar/monday-free-pool-all-day-3/
LOCATION:Church St. Pub\, 552 rue de l’Église\, Verdun\, Quebec\, H4G 3E4\, Canada
ATTACH;FMTTYPE=image/jpeg:https://churchstpub.com/wp-content/uploads/2025/01/free_billiards01.jpg
END:VEVENT
BEGIN:VEVENT
DTSTART;VALUE=DATE:20250215
DTEND;VALUE=DATE:20250216
DTSTAMP:20260419T173005
CREATED:20250124T145832Z
LAST-MODIFIED:20250206T164022Z
UID:71402-1739577600-1739663999@churchstpub.com
SUMMARY:Live Music Night featuring: Daphonie Vandal
DESCRIPTION:
URL:https://churchstpub.com/eventscalendar/live-music-night-featuring-daphonie-vandal/
LOCATION:Church St. Pub\, 552 rue de l’Église\, Verdun\, Quebec\, H4G 3E4\, Canada
ATTACH;FMTTYPE=image/jpeg:https://churchstpub.com/wp-content/uploads/2025/01/live_bands02.jpg
END:VEVENT
BEGIN:VEVENT
DTSTART;VALUE=DATE:20250214
DTEND;VALUE=DATE:20250215
DTSTAMP:20260419T173005
CREATED:20250124T154718Z
LAST-MODIFIED:20250206T165434Z
UID:71410-1739491200-1739577599@churchstpub.com
SUMMARY:Special Event: Lonely Hearts Club
DESCRIPTION:Bring your sweetheart—or not! We’ll have specials all day on February 14th.\nOur specials include discounts on favorites like the “Whiskey Smash” and\nour delicious “Smash Burger” for all the broken hearts out there.
URL:https://churchstpub.com/eventscalendar/special-events-lonely-hearts-club/
LOCATION:Church St. Pub\, 552 rue de l’Église\, Verdun\, Quebec\, H4G 3E4\, Canada
ATTACH;FMTTYPE=image/jpeg:https://churchstpub.com/wp-content/uploads/2025/01/lonelyheartsclub.jpg
END:VEVENT
BEGIN:VEVENT
DTSTART;VALUE=DATE:20250213
DTEND;VALUE=DATE:20250214
DTSTAMP:20260419T173005
CREATED:20250130T142313Z
LAST-MODIFIED:20250206T164401Z
UID:71488-1739404800-1739491199@churchstpub.com
SUMMARY:OPEN MIC NIGHT - Every Thursday
DESCRIPTION:
URL:https://churchstpub.com/eventscalendar/open-mic-night-every-thursday-night-3/
LOCATION:Church St. Pub\, 552 rue de l’Église\, Verdun\, Quebec\, H4G 3E4\, Canada
ATTACH;FMTTYPE=image/jpeg:https://churchstpub.com/wp-content/uploads/2025/01/openmicnight.jpg
END:VEVENT
BEGIN:VEVENT
DTSTART;VALUE=DATE:20250211
DTEND;VALUE=DATE:20250212
DTSTAMP:20260419T173005
CREATED:20250130T142037Z
LAST-MODIFIED:20250206T165621Z
UID:71484-1739232000-1739318399@churchstpub.com
SUMMARY:TRIVIA NIGHT - Every Tuesday **Reservation Required**
DESCRIPTION:
URL:https://churchstpub.com/eventscalendar/trivia-night-every-tuesday-night-reservation-required-2/
LOCATION:Church St. Pub\, 552 rue de l’Église\, Verdun\, Quebec\, H4G 3E4\, Canada
ATTACH;FMTTYPE=image/jpeg:https://churchstpub.com/wp-content/uploads/2025/01/trivia_night01.jpg
END:VEVENT
BEGIN:VEVENT
DTSTART;VALUE=DATE:20250210
DTEND;VALUE=DATE:20250211
DTSTAMP:20260419T173005
CREATED:20250130T141533Z
LAST-MODIFIED:20250206T165602Z
UID:71480-1739145600-1739231999@churchstpub.com
SUMMARY:FREE POOL ALL DAY - Every Monday
DESCRIPTION:
URL:https://churchstpub.com/eventscalendar/monday-free-pool-all-day-2/
LOCATION:Church St. Pub\, 552 rue de l’Église\, Verdun\, Quebec\, H4G 3E4\, Canada
ATTACH;FMTTYPE=image/jpeg:https://churchstpub.com/wp-content/uploads/2025/01/free_billiards01.jpg
END:VEVENT
BEGIN:VEVENT
DTSTART;VALUE=DATE:20250209
DTEND;VALUE=DATE:20250210
DTSTAMP:20260419T173005
CREATED:20250124T154320Z
LAST-MODIFIED:20250206T164544Z
UID:71406-1739059200-1739145599@churchstpub.com
SUMMARY:Special Event: Super Bowl
DESCRIPTION:
URL:https://churchstpub.com/eventscalendar/special-events-super-bowl/
LOCATION:Church St. Pub\, 552 rue de l’Église\, Verdun\, Quebec\, H4G 3E4\, Canada
ATTACH;FMTTYPE=image/jpeg:https://churchstpub.com/wp-content/uploads/2025/01/events_superbowl.jpg
END:VEVENT
BEGIN:VEVENT
DTSTART;VALUE=DATE:20250208
DTEND;VALUE=DATE:20250209
DTSTAMP:20260419T173005
CREATED:20250124T145604Z
LAST-MODIFIED:20250206T164513Z
UID:71400-1738972800-1739059199@churchstpub.com
SUMMARY:Live Music Night featuring: Suspects
DESCRIPTION:
URL:https://churchstpub.com/eventscalendar/live-music-night-featuring-suspects/
LOCATION:Church St. Pub\, 552 rue de l’Église\, Verdun\, Quebec\, H4G 3E4\, Canada
ATTACH;FMTTYPE=image/jpeg:https://churchstpub.com/wp-content/uploads/2025/01/live_bands01.jpg
END:VEVENT
BEGIN:VEVENT
DTSTART;VALUE=DATE:20250206
DTEND;VALUE=DATE:20250207
DTSTAMP:20260419T173005
CREATED:20250129T202952Z
LAST-MODIFIED:20250206T164455Z
UID:71474-1738800000-1738886399@churchstpub.com
SUMMARY:OPEN MIC NIGHT - Every Thursday
DESCRIPTION:
URL:https://churchstpub.com/eventscalendar/open-mic-night-every-thursday-night-2/
LOCATION:Church St. Pub\, 552 rue de l’Église\, Verdun\, Quebec\, H4G 3E4\, Canada
ATTACH;FMTTYPE=image/jpeg:https://churchstpub.com/wp-content/uploads/2025/01/openmicnight.jpg
END:VEVENT
BEGIN:VEVENT
DTSTART;VALUE=DATE:20250204
DTEND;VALUE=DATE:20250205
DTSTAMP:20260419T173005
CREATED:20250129T202511Z
LAST-MODIFIED:20250204T220040Z
UID:71466-1738627200-1738713599@churchstpub.com
SUMMARY:TRIVIA NIGHT - Every Tuesday **Reservation Required**
DESCRIPTION:
URL:https://churchstpub.com/eventscalendar/trivia-night-every-tuesday-night-reservation-required/
LOCATION:Church St. Pub\, 552 rue de l’Église\, Verdun\, Quebec\, H4G 3E4\, Canada
ATTACH;FMTTYPE=image/jpeg:https://churchstpub.com/wp-content/uploads/2025/01/trivia_night01.jpg
END:VEVENT
BEGIN:VEVENT
DTSTART;VALUE=DATE:20250203
DTEND;VALUE=DATE:20250204
DTSTAMP:20260419T173005
CREATED:20250129T201605Z
LAST-MODIFIED:20250130T140849Z
UID:71464-1738540800-1738627199@churchstpub.com
SUMMARY:Monday Free Pool All Day
DESCRIPTION:
URL:https://churchstpub.com/eventscalendar/monday-free-pool-all-day/
LOCATION:Church St. Pub\, 552 rue de l’Église\, Verdun\, Quebec\, H4G 3E4\, Canada
ATTACH;FMTTYPE=image/jpeg:https://churchstpub.com/wp-content/uploads/2025/01/free_billiards01.jpg
END:VEVENT
BEGIN:VEVENT
DTSTART;VALUE=DATE:20250201
DTEND;VALUE=DATE:20250202
DTSTAMP:20260419T173005
CREATED:20250124T144352Z
LAST-MODIFIED:20250124T144352Z
UID:71398-1738368000-1738454399@churchstpub.com
SUMMARY:Live Music Night featuring: The After Party
DESCRIPTION:
URL:https://churchstpub.com/eventscalendar/live-music-night-featuring-the-after-party/
LOCATION:Church St. Pub\, 552 rue de l’Église\, Verdun\, Quebec\, H4G 3E4\, Canada
ATTACH;FMTTYPE=image/jpeg:https://churchstpub.com/wp-content/uploads/2025/01/live_bands01.jpg
END:VEVENT
BEGIN:VEVENT
DTSTART;VALUE=DATE:20250130
DTEND;VALUE=DATE:20250131
DTSTAMP:20260419T173005
CREATED:20250124T185208Z
LAST-MODIFIED:20250129T202802Z
UID:71430-1738195200-1738281599@churchstpub.com
SUMMARY:Open Mic Night Every Thursday Night
DESCRIPTION:
URL:https://churchstpub.com/eventscalendar/open-mic-night-every-thursday-night/
LOCATION:Church St. Pub\, 552 rue de l’Église\, Verdun\, Quebec\, H4G 3E4\, Canada
ATTACH;FMTTYPE=image/jpeg:https://churchstpub.com/wp-content/uploads/2025/01/openmicnight.jpg
END:VEVENT
BEGIN:VEVENT
DTSTART;VALUE=DATE:20250128
DTEND;VALUE=DATE:20250129
DTSTAMP:20260419T173005
CREATED:20250124T184206Z
LAST-MODIFIED:20250124T184519Z
UID:71423-1738022400-1738108799@churchstpub.com
SUMMARY:Trivia Night Every Tuesday Night
DESCRIPTION:
URL:https://churchstpub.com/eventscalendar/weekly-trivia-night-every-tuesday-night/
LOCATION:Church St. Pub\, 552 rue de l’Église\, Verdun\, Quebec\, H4G 3E4\, Canada
ATTACH;FMTTYPE=image/jpeg:https://churchstpub.com/wp-content/uploads/2025/01/trivia_night01.jpg
END:VEVENT
BEGIN:VEVENT
DTSTART;VALUE=DATE:20250125
DTEND;VALUE=DATE:20250126
DTSTAMP:20260419T173005
CREATED:20250124T222542Z
LAST-MODIFIED:20250124T222542Z
UID:71458-1737763200-1737849599@churchstpub.com
SUMMARY:Live Music Night featuring: The Madhatters
DESCRIPTION:
URL:https://churchstpub.com/eventscalendar/live-music-night-featuring-the-madhatters/
LOCATION:Church St. Pub\, 552 rue de l’Église\, Verdun\, Quebec\, H4G 3E4\, Canada
ATTACH;FMTTYPE=image/jpeg:https://churchstpub.com/wp-content/uploads/2025/01/live_bands01.jpg
END:VEVENT
END:VCALENDAR