BEGIN:VCALENDAR
VERSION:2.0
PRODID:-//Churchstpub - ECPv6.15.16//NONSGML v1.0//EN
CALSCALE:GREGORIAN
METHOD:PUBLISH
X-WR-CALNAME:Churchstpub
X-ORIGINAL-URL:https://churchstpub.com
X-WR-CALDESC:Events for Churchstpub
REFRESH-INTERVAL;VALUE=DURATION:PT1H
X-Robots-Tag:noindex
X-PUBLISHED-TTL:PT1H
BEGIN:VTIMEZONE
TZID:America/New_York
BEGIN:DAYLIGHT
TZOFFSETFROM:-0500
TZOFFSETTO:-0400
TZNAME:EDT
DTSTART:20240310T070000
END:DAYLIGHT
BEGIN:STANDARD
TZOFFSETFROM:-0400
TZOFFSETTO:-0500
TZNAME:EST
DTSTART:20241103T060000
END:STANDARD
BEGIN:DAYLIGHT
TZOFFSETFROM:-0500
TZOFFSETTO:-0400
TZNAME:EDT
DTSTART:20250309T070000
END:DAYLIGHT
BEGIN:STANDARD
TZOFFSETFROM:-0400
TZOFFSETTO:-0500
TZNAME:EST
DTSTART:20251102T060000
END:STANDARD
BEGIN:DAYLIGHT
TZOFFSETFROM:-0500
TZOFFSETTO:-0400
TZNAME:EDT
DTSTART:20260308T070000
END:DAYLIGHT
BEGIN:STANDARD
TZOFFSETFROM:-0400
TZOFFSETTO:-0500
TZNAME:EST
DTSTART:20261101T060000
END:STANDARD
END:VTIMEZONE
BEGIN:VEVENT
DTSTART;VALUE=DATE:20250308
DTEND;VALUE=DATE:20250309
DTSTAMP:20260420T012136
CREATED:20250228T181121Z
LAST-MODIFIED:20250306T064020Z
UID:71588-1741392000-1741478399@churchstpub.com
SUMMARY:Live Music Night featuring: Ella & Brenna (Irish)
DESCRIPTION:
URL:https://churchstpub.com/eventscalendar/live-music-night-featuring-ella/
LOCATION:Church St. Pub\, 552 rue de l’Église\, Verdun\, Quebec\, H4G 3E4\, Canada
ATTACH;FMTTYPE=image/jpeg:https://churchstpub.com/wp-content/uploads/2025/01/live_bands02.jpg
END:VEVENT
BEGIN:VEVENT
DTSTART;VALUE=DATE:20250310
DTEND;VALUE=DATE:20250311
DTSTAMP:20260420T012136
CREATED:20250228T185129Z
LAST-MODIFIED:20250228T185129Z
UID:71604-1741564800-1741651199@churchstpub.com
SUMMARY:FREE POOL ALL DAY – Every Monday
DESCRIPTION:
URL:https://churchstpub.com/eventscalendar/free-pool-all-day-every-monday-2/
ATTACH;FMTTYPE=image/jpeg:https://churchstpub.com/wp-content/uploads/2025/01/free_billiards01.jpg
END:VEVENT
BEGIN:VEVENT
DTSTART;VALUE=DATE:20250311
DTEND;VALUE=DATE:20250312
DTSTAMP:20260420T012136
CREATED:20250228T191846Z
LAST-MODIFIED:20250228T191846Z
UID:71629-1741651200-1741737599@churchstpub.com
SUMMARY:TRIVIA NIGHT – Every Tuesday **Reservation Required**
DESCRIPTION:
URL:https://churchstpub.com/eventscalendar/trivia-night-every-tuesday-reservation-required-2/
LOCATION:Church St. Pub\, 552 rue de l’Église\, Verdun\, Quebec\, H4G 3E4\, Canada
ATTACH;FMTTYPE=image/jpeg:https://churchstpub.com/wp-content/uploads/2025/01/trivia_night01.jpg
END:VEVENT
BEGIN:VEVENT
DTSTART;VALUE=DATE:20250313
DTEND;VALUE=DATE:20250314
DTSTAMP:20260420T012136
CREATED:20250228T192404Z
LAST-MODIFIED:20250228T192404Z
UID:71640-1741824000-1741910399@churchstpub.com
SUMMARY:OPEN MIC NIGHT – Every Thursday
DESCRIPTION:
URL:https://churchstpub.com/eventscalendar/open-mic-night-every-thursday-2/
LOCATION:Church St. Pub\, 552 rue de l’Église\, Verdun\, Quebec\, H4G 3E4\, Canada
ATTACH;FMTTYPE=image/jpeg:https://churchstpub.com/wp-content/uploads/2025/01/openmicnight.jpg
END:VEVENT
BEGIN:VEVENT
DTSTART;VALUE=DATE:20250315
DTEND;VALUE=DATE:20250316
DTSTAMP:20260420T012136
CREATED:20250228T181244Z
LAST-MODIFIED:20250306T064057Z
UID:71590-1741996800-1742083199@churchstpub.com
SUMMARY:Live Music Night featuring: Cianalas (Irish)
DESCRIPTION:
URL:https://churchstpub.com/eventscalendar/live-music-night-featuring-tba/
LOCATION:Church St. Pub\, 552 rue de l’Église\, Verdun\, Quebec\, H4G 3E4\, Canada
ATTACH;FMTTYPE=image/jpeg:https://churchstpub.com/wp-content/uploads/2025/01/live_bands01.jpg
END:VEVENT
BEGIN:VEVENT
DTSTART;VALUE=DATE:20250316
DTEND;VALUE=DATE:20250318
DTSTAMP:20260420T012136
CREATED:20250124T182246Z
LAST-MODIFIED:20250310T220330Z
UID:71412-1742083200-1742255999@churchstpub.com
SUMMARY:St. Patrick's Day Events - March 16th & 17th
DESCRIPTION:
URL:https://churchstpub.com/eventscalendar/events-st-patricks-day-events-march-16th-17th/
LOCATION:Church St. Pub\, 552 rue de l’Église\, Verdun\, Quebec\, H4G 3E4\, Canada
ATTACH;FMTTYPE=image/jpeg:https://churchstpub.com/wp-content/uploads/2025/02/Mar2025_ChurchSTPub.jpg
END:VEVENT
BEGIN:VEVENT
DTSTART;VALUE=DATE:20250317
DTEND;VALUE=DATE:20250318
DTSTAMP:20260420T012136
CREATED:20250228T181739Z
LAST-MODIFIED:20250310T221718Z
UID:71594-1742169600-1742255999@churchstpub.com
SUMMARY:Live Music Night featuring: Suspects (Irish)
DESCRIPTION:
URL:https://churchstpub.com/eventscalendar/live-music-night-featuring-suspects-3/
LOCATION:Church St. Pub\, 552 rue de l’Église\, Verdun\, Quebec\, H4G 3E4\, Canada
ATTACH;FMTTYPE=image/jpeg:https://churchstpub.com/wp-content/uploads/2025/02/Mar2025_ChurchSTPub.jpg
END:VEVENT
BEGIN:VEVENT
DTSTART;VALUE=DATE:20250317
DTEND;VALUE=DATE:20250318
DTSTAMP:20260420T012136
CREATED:20250228T191313Z
LAST-MODIFIED:20250228T191313Z
UID:71618-1742169600-1742255999@churchstpub.com
SUMMARY:FREE POOL ALL DAY – Every Monday
DESCRIPTION:
URL:https://churchstpub.com/eventscalendar/free-pool-all-day-every-monday-3/
LOCATION:Church St. Pub\, 552 rue de l’Église\, Verdun\, Quebec\, H4G 3E4\, Canada
ATTACH;FMTTYPE=image/jpeg:https://churchstpub.com/wp-content/uploads/2025/01/free_billiards01.jpg
END:VEVENT
BEGIN:VEVENT
DTSTART;VALUE=DATE:20250318
DTEND;VALUE=DATE:20250319
DTSTAMP:20260420T012136
CREATED:20250228T191942Z
LAST-MODIFIED:20250228T191942Z
UID:71631-1742256000-1742342399@churchstpub.com
SUMMARY:TRIVIA NIGHT – Every Tuesday **Reservation Required**
DESCRIPTION:
URL:https://churchstpub.com/eventscalendar/trivia-night-every-tuesday-reservation-required-3/
LOCATION:Church St. Pub\, 552 rue de l’Église\, Verdun\, Quebec\, H4G 3E4\, Canada
ATTACH;FMTTYPE=image/jpeg:https://churchstpub.com/wp-content/uploads/2025/01/trivia_night01.jpg
END:VEVENT
BEGIN:VEVENT
DTSTART;VALUE=DATE:20250320
DTEND;VALUE=DATE:20250321
DTSTAMP:20260420T012136
CREATED:20250228T192556Z
LAST-MODIFIED:20250228T192556Z
UID:71643-1742428800-1742515199@churchstpub.com
SUMMARY:OPEN MIC NIGHT – Every Thursday
DESCRIPTION:
URL:https://churchstpub.com/eventscalendar/open-mic-night-every-thursday-3/
LOCATION:Church St. Pub\, 552 rue de l’Église\, Verdun\, Quebec\, H4G 3E4\, Canada
ATTACH;FMTTYPE=image/jpeg:https://churchstpub.com/wp-content/uploads/2025/01/openmicnight.jpg
END:VEVENT
BEGIN:VEVENT
DTSTART;VALUE=DATE:20250322
DTEND;VALUE=DATE:20250323
DTSTAMP:20260420T012136
CREATED:20250228T181928Z
LAST-MODIFIED:20250228T181928Z
UID:71596-1742601600-1742687999@churchstpub.com
SUMMARY:Live Music Night featuring: Sister Speak
DESCRIPTION:
URL:https://churchstpub.com/eventscalendar/live-music-night-featuring-sister-speak/
LOCATION:Church St. Pub\, 552 rue de l’Église\, Verdun\, Quebec\, H4G 3E4\, Canada
ATTACH;FMTTYPE=image/jpeg:https://churchstpub.com/wp-content/uploads/2025/01/live_bands01.jpg
END:VEVENT
BEGIN:VEVENT
DTSTART;VALUE=DATE:20250324
DTEND;VALUE=DATE:20250325
DTSTAMP:20260420T012136
CREATED:20250228T191411Z
LAST-MODIFIED:20250228T191411Z
UID:71621-1742774400-1742860799@churchstpub.com
SUMMARY:FREE POOL ALL DAY – Every Monday
DESCRIPTION:
URL:https://churchstpub.com/eventscalendar/free-pool-all-day-every-monday-4/
LOCATION:Church St. Pub\, 552 rue de l’Église\, Verdun\, Quebec\, H4G 3E4\, Canada
ATTACH;FMTTYPE=image/jpeg:https://churchstpub.com/wp-content/uploads/2025/01/free_billiards01.jpg
END:VEVENT
BEGIN:VEVENT
DTSTART;VALUE=DATE:20250325
DTEND;VALUE=DATE:20250326
DTSTAMP:20260420T012136
CREATED:20250228T192027Z
LAST-MODIFIED:20250228T192027Z
UID:71634-1742860800-1742947199@churchstpub.com
SUMMARY:TRIVIA NIGHT – Every Tuesday **Reservation Required**
DESCRIPTION:
URL:https://churchstpub.com/eventscalendar/trivia-night-every-tuesday-reservation-required-4/
LOCATION:Church St. Pub\, 552 rue de l’Église\, Verdun\, Quebec\, H4G 3E4\, Canada
ATTACH;FMTTYPE=image/jpeg:https://churchstpub.com/wp-content/uploads/2025/01/trivia_night01.jpg
END:VEVENT
BEGIN:VEVENT
DTSTART;VALUE=DATE:20250327
DTEND;VALUE=DATE:20250328
DTSTAMP:20260420T012136
CREATED:20250228T192705Z
LAST-MODIFIED:20250228T192705Z
UID:71646-1743033600-1743119999@churchstpub.com
SUMMARY:OPEN MIC NIGHT – Every Thursday
DESCRIPTION:
URL:https://churchstpub.com/eventscalendar/open-mic-night-every-thursday-4/
LOCATION:Church St. Pub\, 552 rue de l’Église\, Verdun\, Quebec\, H4G 3E4\, Canada
ATTACH;FMTTYPE=image/jpeg:https://churchstpub.com/wp-content/uploads/2025/01/openmicnight.jpg
END:VEVENT
BEGIN:VEVENT
DTSTART;VALUE=DATE:20250329
DTEND;VALUE=DATE:20250330
DTSTAMP:20260420T012136
CREATED:20250228T184611Z
LAST-MODIFIED:20250228T184611Z
UID:71598-1743206400-1743292799@churchstpub.com
SUMMARY:Live Music Night featuring: Rob Scott
DESCRIPTION:
URL:https://churchstpub.com/eventscalendar/live-music-night-featuring-rob-scott/
LOCATION:Church St. Pub\, 552 rue de l’Église\, Verdun\, Quebec\, H4G 3E4\, Canada
ATTACH;FMTTYPE=image/jpeg:https://churchstpub.com/wp-content/uploads/2025/02/liveband_m.jpg
END:VEVENT
BEGIN:VEVENT
DTSTART;VALUE=DATE:20250331
DTEND;VALUE=DATE:20250401
DTSTAMP:20260420T012136
CREATED:20250228T191501Z
LAST-MODIFIED:20250228T191501Z
UID:71624-1743379200-1743465599@churchstpub.com
SUMMARY:FREE POOL ALL DAY – Every Monday
DESCRIPTION:
URL:https://churchstpub.com/eventscalendar/free-pool-all-day-every-monday-5/
LOCATION:Church St. Pub\, 552 rue de l’Église\, Verdun\, Quebec\, H4G 3E4\, Canada
ATTACH;FMTTYPE=image/jpeg:https://churchstpub.com/wp-content/uploads/2025/01/free_billiards01.jpg
END:VEVENT
BEGIN:VEVENT
DTSTART;VALUE=DATE:20250401
DTEND;VALUE=DATE:20250402
DTSTAMP:20260420T012136
CREATED:20250328T113236Z
LAST-MODIFIED:20250328T123023Z
UID:71707-1743465600-1743551999@churchstpub.com
SUMMARY:TRIVIA NIGHT – Every Tuesday **Reservation Required**
DESCRIPTION:$20 – Pitcher of Canadian or Moosehead
URL:https://churchstpub.com/eventscalendar/trivia-night-every-tuesday-reservation-required-5/
LOCATION:Church St. Pub\, 552 rue de l’Église\, Verdun\, Quebec\, H4G 3E4\, Canada
ATTACH;FMTTYPE=image/jpeg:https://churchstpub.com/wp-content/uploads/2025/01/trivia_night01.jpg
END:VEVENT
BEGIN:VEVENT
DTSTART;VALUE=DATE:20250403
DTEND;VALUE=DATE:20250404
DTSTAMP:20260420T012136
CREATED:20250328T113722Z
LAST-MODIFIED:20250328T130307Z
UID:71711-1743638400-1743724799@churchstpub.com
SUMMARY:OPEN MIC NIGHT – Every Thursday
DESCRIPTION:Confessional Cocktails $6 (6pm – 10pm)  |  Oysters (6pm – 8pm)
URL:https://churchstpub.com/eventscalendar/open-mic-night-every-thursday-5/
LOCATION:Church St. Pub\, 552 rue de l’Église\, Verdun\, Quebec\, H4G 3E4\, Canada
ATTACH;FMTTYPE=image/jpeg:https://churchstpub.com/wp-content/uploads/2025/01/openmicnight.jpg
END:VEVENT
BEGIN:VEVENT
DTSTART;VALUE=DATE:20250405
DTEND;VALUE=DATE:20250406
DTSTAMP:20260420T012136
CREATED:20250328T114043Z
LAST-MODIFIED:20250328T131115Z
UID:71714-1743811200-1743897599@churchstpub.com
SUMMARY:Live Music Night featuring: After Party
DESCRIPTION:Cocktail of the day $11
URL:https://churchstpub.com/eventscalendar/live-music-night-featuring-after-party/
LOCATION:Church St. Pub\, 552 rue de l’Église\, Verdun\, Quebec\, H4G 3E4\, Canada
ATTACH;FMTTYPE=image/jpeg:https://churchstpub.com/wp-content/uploads/2025/01/live_bands01.jpg
END:VEVENT
BEGIN:VEVENT
DTSTART;VALUE=DATE:20250407
DTEND;VALUE=DATE:20250408
DTSTAMP:20260420T012136
CREATED:20250328T114311Z
LAST-MODIFIED:20250328T122200Z
UID:71717-1743984000-1744070399@churchstpub.com
SUMMARY:FREE POOL ALL DAY – Every Monday
DESCRIPTION:$15 – Wings in-house  |  $20 – Pitcher of Canadian or Moosehead
URL:https://churchstpub.com/eventscalendar/free-pool-all-day-every-monday-6/
LOCATION:Church St. Pub\, 552 rue de l’Église\, Verdun\, Quebec\, H4G 3E4\, Canada
ATTACH;FMTTYPE=image/jpeg:https://churchstpub.com/wp-content/uploads/2025/01/free_billiards01.jpg
END:VEVENT
BEGIN:VEVENT
DTSTART;VALUE=DATE:20250408
DTEND;VALUE=DATE:20250409
DTSTAMP:20260420T012136
CREATED:20250328T114430Z
LAST-MODIFIED:20250328T123041Z
UID:71720-1744070400-1744156799@churchstpub.com
SUMMARY:TRIVIA NIGHT – Every Tuesday **Reservation Required**
DESCRIPTION:$20 – Pitcher of Canadian or Moosehead
URL:https://churchstpub.com/eventscalendar/trivia-night-every-tuesday-reservation-required-6/
LOCATION:Church St. Pub\, 552 rue de l’Église\, Verdun\, Quebec\, H4G 3E4\, Canada
ATTACH;FMTTYPE=image/jpeg:https://churchstpub.com/wp-content/uploads/2025/01/trivia_night01.jpg
END:VEVENT
BEGIN:VEVENT
DTSTART;VALUE=DATE:20250410
DTEND;VALUE=DATE:20250411
DTSTAMP:20260420T012136
CREATED:20250328T114539Z
LAST-MODIFIED:20250328T130328Z
UID:71723-1744243200-1744329599@churchstpub.com
SUMMARY:OPEN MIC NIGHT – Every Thursday
DESCRIPTION:Confessional Cocktails $6 (6pm – 10pm)  |  Oysters (6pm – 8pm)
URL:https://churchstpub.com/eventscalendar/open-mic-night-every-thursday-6/
ATTACH;FMTTYPE=image/jpeg:https://churchstpub.com/wp-content/uploads/2025/01/openmicnight.jpg
END:VEVENT
BEGIN:VEVENT
DTSTART;VALUE=DATE:20250412
DTEND;VALUE=DATE:20250413
DTSTAMP:20260420T012136
CREATED:20250328T114755Z
LAST-MODIFIED:20250328T131138Z
UID:71727-1744416000-1744502399@churchstpub.com
SUMMARY:Live Music Night featuring: Sister Speaks
DESCRIPTION:Cocktail of the day $11
URL:https://churchstpub.com/eventscalendar/live-music-night-featuring-sister-speaks/
LOCATION:Church St. Pub\, 552 rue de l’Église\, Verdun\, Quebec\, H4G 3E4\, Canada
ATTACH;FMTTYPE=image/jpeg:https://churchstpub.com/wp-content/uploads/2025/01/live_bands01.jpg
END:VEVENT
BEGIN:VEVENT
DTSTART;VALUE=DATE:20250414
DTEND;VALUE=DATE:20250415
DTSTAMP:20260420T012136
CREATED:20250328T115129Z
LAST-MODIFIED:20250328T122544Z
UID:71730-1744588800-1744675199@churchstpub.com
SUMMARY:FREE POOL ALL DAY – Every Monday
DESCRIPTION:$15 – Wings in-house  |  $20 – Pitcher of Canadian or Moosehead
URL:https://churchstpub.com/eventscalendar/free-pool-all-day-every-monday-7/
LOCATION:Church St. Pub\, 552 rue de l’Église\, Verdun\, Quebec\, H4G 3E4\, Canada
ATTACH;FMTTYPE=image/jpeg:https://churchstpub.com/wp-content/uploads/2025/01/free_billiards01.jpg
END:VEVENT
BEGIN:VEVENT
DTSTART;VALUE=DATE:20250415
DTEND;VALUE=DATE:20250416
DTSTAMP:20260420T012136
CREATED:20250328T115450Z
LAST-MODIFIED:20250328T123103Z
UID:71734-1744675200-1744761599@churchstpub.com
SUMMARY:TRIVIA NIGHT – Every Tuesday **Reservation Required**
DESCRIPTION:$20 – Pitcher of Canadian or Moosehead
URL:https://churchstpub.com/eventscalendar/trivia-night-every-tuesday-reservation-required-7/
LOCATION:Church St. Pub\, 552 rue de l’Église\, Verdun\, Quebec\, H4G 3E4\, Canada
ATTACH;FMTTYPE=image/jpeg:https://churchstpub.com/wp-content/uploads/2025/01/trivia_night01.jpg
END:VEVENT
BEGIN:VEVENT
DTSTART;VALUE=DATE:20250419
DTEND;VALUE=DATE:20250420
DTSTAMP:20260420T012136
CREATED:20250328T115745Z
LAST-MODIFIED:20250418T123531Z
UID:71740-1745020800-1745107199@churchstpub.com
SUMMARY:Live Music Night featuring: Eric Farron & the Rambles
DESCRIPTION:Cocktail of the day $11 | Barman Cocktail $11\nLive Music 8pm
URL:https://churchstpub.com/eventscalendar/live-music-night-featuring-eric-farron-the-rambles/
LOCATION:Church St. Pub\, 552 rue de l’Église\, Verdun\, Quebec\, H4G 3E4\, Canada
ATTACH;FMTTYPE=image/jpeg:https://churchstpub.com/wp-content/uploads/2025/01/live_bands01.jpg
END:VEVENT
BEGIN:VEVENT
DTSTART;VALUE=DATE:20250421
DTEND;VALUE=DATE:20250422
DTSTAMP:20260420T012136
CREATED:20250328T120007Z
LAST-MODIFIED:20250417T194039Z
UID:71743-1745193600-1745279999@churchstpub.com
SUMMARY:FREE POOL ALL DAY – Every Monday
DESCRIPTION:$15 – Chicken Wings & Fries  |  $20 – Pitcher of Canadian or Moosehead
URL:https://churchstpub.com/eventscalendar/free-pool-all-day-every-monday-8/
LOCATION:Church St. Pub\, 552 rue de l’Église\, Verdun\, Quebec\, H4G 3E4\, Canada
ATTACH;FMTTYPE=image/jpeg:https://churchstpub.com/wp-content/uploads/2025/01/free_billiards01.jpg
END:VEVENT
BEGIN:VEVENT
DTSTART;VALUE=DATE:20250422
DTEND;VALUE=DATE:20250423
DTSTAMP:20260420T012136
CREATED:20250328T120103Z
LAST-MODIFIED:20250328T123127Z
UID:71746-1745280000-1745366399@churchstpub.com
SUMMARY:TRIVIA NIGHT – Every Tuesday **Reservation Required**
DESCRIPTION:$20 – Pitcher of Canadian or Moosehead
URL:https://churchstpub.com/eventscalendar/trivia-night-every-tuesday-reservation-required-8/
LOCATION:Church St. Pub\, 552 rue de l’Église\, Verdun\, Quebec\, H4G 3E4\, Canada
ATTACH;FMTTYPE=image/jpeg:https://churchstpub.com/wp-content/uploads/2025/01/trivia_night01.jpg
END:VEVENT
BEGIN:VEVENT
DTSTART;VALUE=DATE:20250423
DTEND;VALUE=DATE:20250424
DTSTAMP:20260420T012136
CREATED:20250417T195246Z
LAST-MODIFIED:20250417T195246Z
UID:71802-1745366400-1745452799@churchstpub.com
SUMMARY:Fireball Evening - Every Wednesday (6pm - 10pm )
DESCRIPTION:$9 – Fireball Cocktail |  $16 – Whiskey Hell Burger
URL:https://churchstpub.com/eventscalendar/fireball-evening-every-wednesday-6pm-10pm/
LOCATION:Church St. Pub\, 552 rue de l’Église\, Verdun\, Quebec\, H4G 3E4\, Canada
ATTACH;FMTTYPE=image/jpeg:https://churchstpub.com/wp-content/uploads/2025/04/churchpub_fireball.jpg
END:VEVENT
BEGIN:VEVENT
DTSTART;VALUE=DATE:20250424
DTEND;VALUE=DATE:20250425
DTSTAMP:20260420T012136
CREATED:20250418T122644Z
LAST-MODIFIED:20250418T122644Z
UID:71810-1745452800-1745539199@churchstpub.com
SUMMARY:Confessional Thursday
DESCRIPTION:$6 – Confessional Cocktails (6pm – 9pm)  |  $1/ea. Oysters
URL:https://churchstpub.com/eventscalendar/confessional-thursday/
LOCATION:Church St. Pub\, 552 rue de l’Église\, Verdun\, Quebec\, H4G 3E4\, Canada
ATTACH;FMTTYPE=image/jpeg:https://churchstpub.com/wp-content/uploads/2025/04/confessional.jpg
END:VEVENT
END:VCALENDAR