BEGIN:VCALENDAR
VERSION:2.0
PRODID:-//Churchstpub - ECPv6.15.16//NONSGML v1.0//EN
CALSCALE:GREGORIAN
METHOD:PUBLISH
X-ORIGINAL-URL:https://churchstpub.com/fr/
X-WR-CALDESC:Évènements pour Churchstpub
REFRESH-INTERVAL;VALUE=DURATION:PT1H
X-Robots-Tag:noindex
X-PUBLISHED-TTL:PT1H
BEGIN:VTIMEZONE
TZID:America/New_York
BEGIN:DAYLIGHT
TZOFFSETFROM:-0500
TZOFFSETTO:-0400
TZNAME:EDT
DTSTART:20240310T070000
END:DAYLIGHT
BEGIN:STANDARD
TZOFFSETFROM:-0400
TZOFFSETTO:-0500
TZNAME:EST
DTSTART:20241103T060000
END:STANDARD
BEGIN:DAYLIGHT
TZOFFSETFROM:-0500
TZOFFSETTO:-0400
TZNAME:EDT
DTSTART:20250309T070000
END:DAYLIGHT
BEGIN:STANDARD
TZOFFSETFROM:-0400
TZOFFSETTO:-0500
TZNAME:EST
DTSTART:20251102T060000
END:STANDARD
BEGIN:DAYLIGHT
TZOFFSETFROM:-0500
TZOFFSETTO:-0400
TZNAME:EDT
DTSTART:20260308T070000
END:DAYLIGHT
BEGIN:STANDARD
TZOFFSETFROM:-0400
TZOFFSETTO:-0500
TZNAME:EST
DTSTART:20261101T060000
END:STANDARD
END:VTIMEZONE
BEGIN:VEVENT
DTSTART;VALUE=DATE:20250125
DTEND;VALUE=DATE:20250126
DTSTAMP:20260421T103335
CREATED:20250124T222542Z
LAST-MODIFIED:20250124T222542Z
UID:71460-1737763200-1737849599@churchstpub.com
SUMMARY:Soirée musique en direct avec: The Madhatters
DESCRIPTION:
URL:https://churchstpub.com/fr/eventscalendar/soiree-musique-en-direct-avec-the-madhatters/
LOCATION:Church St. Pub\, 552 rue de l’Église\, Verdun\, Quebec\, H4G 3E4\, Canada
ATTACH;FMTTYPE=image/jpeg:https://churchstpub.com/wp-content/uploads/2025/01/live_bands01.jpg
END:VEVENT
BEGIN:VEVENT
DTSTART;VALUE=DATE:20250128
DTEND;VALUE=DATE:20250129
DTSTAMP:20260421T103335
CREATED:20250124T184206Z
LAST-MODIFIED:20250124T184206Z
UID:71452-1738022400-1738108799@churchstpub.com
SUMMARY:Soirée trivia tous les mardis soirs
DESCRIPTION:
URL:https://churchstpub.com/fr/eventscalendar/soiree-trivia-tous-les-mardis-soirs/
LOCATION:Church St. Pub\, 552 rue de l’Église\, Verdun\, Quebec\, H4G 3E4\, Canada
ATTACH;FMTTYPE=image/jpeg:https://churchstpub.com/wp-content/uploads/2025/01/trivia_night01.jpg
END:VEVENT
BEGIN:VEVENT
DTSTART;VALUE=DATE:20250130
DTEND;VALUE=DATE:20250131
DTSTAMP:20260421T103335
CREATED:20250124T185208Z
LAST-MODIFIED:20250124T185208Z
UID:71451-1738195200-1738281599@churchstpub.com
SUMMARY:Soirée "Open Mic" tous les jeudis
DESCRIPTION:
URL:https://churchstpub.com/fr/eventscalendar/soiree-open-mic-tous-les-jeudis/
LOCATION:Church St. Pub\, 552 rue de l’Église\, Verdun\, Quebec\, H4G 3E4\, Canada
ATTACH;FMTTYPE=image/jpeg:https://churchstpub.com/wp-content/uploads/2025/01/openmicnight.jpg
END:VEVENT
END:VCALENDAR