BEGIN:VCALENDAR
VERSION:2.0
PRODID:-//Churchstpub - ECPv6.15.16//NONSGML v1.0//EN
CALSCALE:GREGORIAN
METHOD:PUBLISH
X-WR-CALNAME:Churchstpub
X-ORIGINAL-URL:https://churchstpub.com/fr/
X-WR-CALDESC:Évènements pour Churchstpub
REFRESH-INTERVAL;VALUE=DURATION:PT1H
X-Robots-Tag:noindex
X-PUBLISHED-TTL:PT1H
BEGIN:VTIMEZONE
TZID:America/New_York
BEGIN:DAYLIGHT
TZOFFSETFROM:-0500
TZOFFSETTO:-0400
TZNAME:EDT
DTSTART:20240310T070000
END:DAYLIGHT
BEGIN:STANDARD
TZOFFSETFROM:-0400
TZOFFSETTO:-0500
TZNAME:EST
DTSTART:20241103T060000
END:STANDARD
BEGIN:DAYLIGHT
TZOFFSETFROM:-0500
TZOFFSETTO:-0400
TZNAME:EDT
DTSTART:20250309T070000
END:DAYLIGHT
BEGIN:STANDARD
TZOFFSETFROM:-0400
TZOFFSETTO:-0500
TZNAME:EST
DTSTART:20251102T060000
END:STANDARD
BEGIN:DAYLIGHT
TZOFFSETFROM:-0500
TZOFFSETTO:-0400
TZNAME:EDT
DTSTART:20260308T070000
END:DAYLIGHT
BEGIN:STANDARD
TZOFFSETFROM:-0400
TZOFFSETTO:-0500
TZNAME:EST
DTSTART:20261101T060000
END:STANDARD
END:VTIMEZONE
BEGIN:VEVENT
DTSTART;VALUE=DATE:20250401
DTEND;VALUE=DATE:20250402
DTSTAMP:20260420T232821
CREATED:20250328T113236Z
LAST-MODIFIED:20250328T122826Z
UID:71709-1743465600-1743551999@churchstpub.com
SUMMARY:SOIRÉE TRIVIA - Tous les mardis **Réservation obligatoire**
DESCRIPTION:20$ – Pichet de Canadian ou Moosehead
URL:https://churchstpub.com/fr/eventscalendar/soiree-trivia-tous-les-mardis-reservation-obligatoire-4/
LOCATION:Church St. Pub\, 552 rue de l’Église\, Verdun\, Quebec\, H4G 3E4\, Canada
ATTACH;FMTTYPE=image/jpeg:https://churchstpub.com/wp-content/uploads/2025/01/trivia_night01.jpg
END:VEVENT
BEGIN:VEVENT
DTSTART;VALUE=DATE:20250403
DTEND;VALUE=DATE:20250404
DTSTAMP:20260420T232821
CREATED:20250328T113722Z
LAST-MODIFIED:20250328T130510Z
UID:71713-1743638400-1743724799@churchstpub.com
SUMMARY:Soirée « Open Mic » tous les jeudis
DESCRIPTION:Confessional Cocktails 6$ (18h – 22h)  |  Huîtres (18h – 20h)
URL:https://churchstpub.com/fr/eventscalendar/soiree-open-mic-tous-les-jeudis-6/
LOCATION:Church St. Pub\, 552 rue de l’Église\, Verdun\, Quebec\, H4G 3E4\, Canada
ATTACH;FMTTYPE=image/jpeg:https://churchstpub.com/wp-content/uploads/2025/01/openmicnight.jpg
END:VEVENT
BEGIN:VEVENT
DTSTART;VALUE=DATE:20250405
DTEND;VALUE=DATE:20250406
DTSTAMP:20260420T232821
CREATED:20250328T114043Z
LAST-MODIFIED:20250328T130940Z
UID:71716-1743811200-1743897599@churchstpub.com
SUMMARY:Musique en direct avec: After Party
DESCRIPTION:Cocktail du jour 11$
URL:https://churchstpub.com/fr/eventscalendar/musique-en-direct-avec-after-party/
LOCATION:Church St. Pub\, 552 rue de l’Église\, Verdun\, Quebec\, H4G 3E4\, Canada
ATTACH;FMTTYPE=image/jpeg:https://churchstpub.com/wp-content/uploads/2025/01/live_bands01.jpg
END:VEVENT
BEGIN:VEVENT
DTSTART;VALUE=DATE:20250407
DTEND;VALUE=DATE:20250408
DTSTAMP:20260420T232821
CREATED:20250328T114311Z
LAST-MODIFIED:20250328T122429Z
UID:71719-1743984000-1744070399@churchstpub.com
SUMMARY:Lundi billiard GRATUIT toute la journée
DESCRIPTION:15$ – ailes de poulet  |  20$ – Pichet de Canadian ou Moosehead
URL:https://churchstpub.com/fr/eventscalendar/lundi-billiard-gratuit-toute-la-journee-10/
LOCATION:Church St. Pub\, 552 rue de l’Église\, Verdun\, Quebec\, H4G 3E4\, Canada
ATTACH;FMTTYPE=image/jpeg:https://churchstpub.com/wp-content/uploads/2025/01/free_billiards01.jpg
END:VEVENT
BEGIN:VEVENT
DTSTART;VALUE=DATE:20250408
DTEND;VALUE=DATE:20250409
DTSTAMP:20260420T232821
CREATED:20250328T114430Z
LAST-MODIFIED:20250328T122850Z
UID:71722-1744070400-1744156799@churchstpub.com
SUMMARY:SOIRÉE TRIVIA - Tous les mardis **Réservation obligatoire**
DESCRIPTION:20$ – Pichet de Canadian ou Moosehead
URL:https://churchstpub.com/fr/eventscalendar/soiree-trivia-tous-les-mardis-reservation-obligatoire-5/
LOCATION:Church St. Pub\, 552 rue de l’Église\, Verdun\, Quebec\, H4G 3E4\, Canada
ATTACH;FMTTYPE=image/jpeg:https://churchstpub.com/wp-content/uploads/2025/01/trivia_night01.jpg
END:VEVENT
BEGIN:VEVENT
DTSTART;VALUE=DATE:20250410
DTEND;VALUE=DATE:20250411
DTSTAMP:20260420T232821
CREATED:20250328T114539Z
LAST-MODIFIED:20250328T130533Z
UID:71725-1744243200-1744329599@churchstpub.com
SUMMARY:Soirée « Open Mic » tous les jeudis
DESCRIPTION:Confessional Cocktails 6$ (18h – 22h)  |  Huîtres (18h – 20h)
URL:https://churchstpub.com/fr/eventscalendar/soiree-open-mic-tous-les-jeudis-7/
ATTACH;FMTTYPE=image/jpeg:https://churchstpub.com/wp-content/uploads/2025/01/openmicnight.jpg
END:VEVENT
BEGIN:VEVENT
DTSTART;VALUE=DATE:20250412
DTEND;VALUE=DATE:20250413
DTSTAMP:20260420T232821
CREATED:20250328T114755Z
LAST-MODIFIED:20250328T131003Z
UID:71729-1744416000-1744502399@churchstpub.com
SUMMARY:Musique en direct avec: Sister Speaks
DESCRIPTION:Cocktail du jour 11$
URL:https://churchstpub.com/fr/eventscalendar/musique-en-direct-avec-sister-speaks/
LOCATION:Church St. Pub\, 552 rue de l’Église\, Verdun\, Quebec\, H4G 3E4\, Canada
ATTACH;FMTTYPE=image/jpeg:https://churchstpub.com/wp-content/uploads/2025/01/live_bands01.jpg
END:VEVENT
BEGIN:VEVENT
DTSTART;VALUE=DATE:20250414
DTEND;VALUE=DATE:20250415
DTSTAMP:20260420T232821
CREATED:20250328T115129Z
LAST-MODIFIED:20250328T122610Z
UID:71732-1744588800-1744675199@churchstpub.com
SUMMARY:Lundi billiard GRATUIT toute la journée
DESCRIPTION:15$ – ailes de poulet  |  20$ – Pichet de Canadian ou Moosehead
URL:https://churchstpub.com/fr/eventscalendar/lundi-billiard-gratuit-toute-la-journee-11/
LOCATION:Church St. Pub\, 552 rue de l’Église\, Verdun\, Quebec\, H4G 3E4\, Canada
ATTACH;FMTTYPE=image/jpeg:https://churchstpub.com/wp-content/uploads/2025/01/free_billiards01.jpg
END:VEVENT
BEGIN:VEVENT
DTSTART;VALUE=DATE:20250415
DTEND;VALUE=DATE:20250416
DTSTAMP:20260420T232821
CREATED:20250328T115450Z
LAST-MODIFIED:20250328T122915Z
UID:71736-1744675200-1744761599@churchstpub.com
SUMMARY:SOIRÉE TRIVIA - Tous les mardis **Réservation obligatoire**
DESCRIPTION:20$ – Pichet de Canadian ou Moosehead
URL:https://churchstpub.com/fr/eventscalendar/soiree-trivia-tous-les-mardis-reservation-obligatoire-6/
LOCATION:Church St. Pub\, 552 rue de l’Église\, Verdun\, Quebec\, H4G 3E4\, Canada
ATTACH;FMTTYPE=image/jpeg:https://churchstpub.com/wp-content/uploads/2025/01/trivia_night01.jpg
END:VEVENT
BEGIN:VEVENT
DTSTART;VALUE=DATE:20250419
DTEND;VALUE=DATE:20250420
DTSTAMP:20260420T232821
CREATED:20250328T115745Z
LAST-MODIFIED:20250418T123717Z
UID:71742-1745020800-1745107199@churchstpub.com
SUMMARY:Musique en direct avec: Eric Farron & the Rambles
DESCRIPTION:Cocktail du jour 11$  | Cocktail du Barman $11\nMusique en direct 20h
URL:https://churchstpub.com/fr/eventscalendar/musique-en-direct-avec-eric-farron-the-rambles/
LOCATION:Church St. Pub\, 552 rue de l’Église\, Verdun\, Quebec\, H4G 3E4\, Canada
ATTACH;FMTTYPE=image/jpeg:https://churchstpub.com/wp-content/uploads/2025/01/live_bands01.jpg
END:VEVENT
BEGIN:VEVENT
DTSTART;VALUE=DATE:20250421
DTEND;VALUE=DATE:20250422
DTSTAMP:20260420T232821
CREATED:20250328T120007Z
LAST-MODIFIED:20250417T194216Z
UID:71745-1745193600-1745279999@churchstpub.com
SUMMARY:Lundi billiard GRATUIT toute la journée
DESCRIPTION:15$ – Ailes de Poulet et Frites  |  20$ – Pichet de Canadian ou Moosehead
URL:https://churchstpub.com/fr/eventscalendar/lundi-billiard-gratuit-toute-la-journee-12/
LOCATION:Church St. Pub\, 552 rue de l’Église\, Verdun\, Quebec\, H4G 3E4\, Canada
ATTACH;FMTTYPE=image/jpeg:https://churchstpub.com/wp-content/uploads/2025/01/free_billiards01.jpg
END:VEVENT
BEGIN:VEVENT
DTSTART;VALUE=DATE:20250422
DTEND;VALUE=DATE:20250423
DTSTAMP:20260420T232821
CREATED:20250328T120103Z
LAST-MODIFIED:20250328T122945Z
UID:71748-1745280000-1745366399@churchstpub.com
SUMMARY:SOIRÉE TRIVIA - Tous les mardis **Réservation obligatoire**
DESCRIPTION:20$ – Pichet de Canadian ou Moosehead
URL:https://churchstpub.com/fr/eventscalendar/soiree-trivia-tous-les-mardis-reservation-obligatoire-7/
LOCATION:Church St. Pub\, 552 rue de l’Église\, Verdun\, Quebec\, H4G 3E4\, Canada
ATTACH;FMTTYPE=image/jpeg:https://churchstpub.com/wp-content/uploads/2025/01/trivia_night01.jpg
END:VEVENT
BEGIN:VEVENT
DTSTART;VALUE=DATE:20250423
DTEND;VALUE=DATE:20250424
DTSTAMP:20260420T232821
CREATED:20250417T195246Z
LAST-MODIFIED:20250417T195745Z
UID:71807-1745366400-1745452799@churchstpub.com
SUMMARY:Soirée Fireball - tous les mercredis (18h - 22h)
DESCRIPTION:9$ – Cocktail « Fireball » | 16$ – Burger de whiskey l’enfer
URL:https://churchstpub.com/fr/eventscalendar/soiree-fireball-tous-les-mercredis-18h-22h/
LOCATION:Church St. Pub\, 552 rue de l’Église\, Verdun\, Quebec\, H4G 3E4\, Canada
ATTACH;FMTTYPE=image/jpeg:https://churchstpub.com/wp-content/uploads/2025/04/churchpub_fireball.jpg
END:VEVENT
BEGIN:VEVENT
DTSTART;VALUE=DATE:20250424
DTEND;VALUE=DATE:20250425
DTSTAMP:20260420T232821
CREATED:20250418T122644Z
LAST-MODIFIED:20250418T122959Z
UID:71814-1745452800-1745539199@churchstpub.com
SUMMARY:Jeudi des Confessions
DESCRIPTION:6$ – Cocktails Confessionnels (18h – 21h) | 1$/ch. Huitres
URL:https://churchstpub.com/fr/eventscalendar/jeudi-des-confessions/
LOCATION:Church St. Pub\, 552 rue de l’Église\, Verdun\, Quebec\, H4G 3E4\, Canada
ATTACH;FMTTYPE=image/jpeg:https://churchstpub.com/wp-content/uploads/2025/04/confessional.jpg
END:VEVENT
BEGIN:VEVENT
DTSTART;VALUE=DATE:20250426
DTEND;VALUE=DATE:20250427
DTSTAMP:20260420T232821
CREATED:20250328T120522Z
LAST-MODIFIED:20250418T123829Z
UID:71754-1745625600-1745711999@churchstpub.com
SUMMARY:Musique en direct avec : (à venir)
DESCRIPTION:Cocktail du jour 11$  | Cocktail du Barman $11\nMusique en direct 20h
URL:https://churchstpub.com/fr/eventscalendar/musique-en-direct-avec-a-venir-2/
LOCATION:Church St. Pub\, 552 rue de l’Église\, Verdun\, Quebec\, H4G 3E4\, Canada
ATTACH;FMTTYPE=image/jpeg:https://churchstpub.com/wp-content/uploads/2025/01/live_bands01.jpg
END:VEVENT
BEGIN:VEVENT
DTSTART;VALUE=DATE:20250428
DTEND;VALUE=DATE:20250429
DTSTAMP:20260420T232821
CREATED:20250328T120641Z
LAST-MODIFIED:20250328T122734Z
UID:71757-1745798400-1745884799@churchstpub.com
SUMMARY:Lundi billiard GRATUIT toute la journée
DESCRIPTION:15$ – ailes de poulet  |  20$ – Pichet de Canadian ou Moosehead
URL:https://churchstpub.com/fr/eventscalendar/lundi-billiard-gratuit-toute-la-journee-13/
LOCATION:Church St. Pub\, 552 rue de l’Église\, Verdun\, Quebec\, H4G 3E4\, Canada
ATTACH;FMTTYPE=image/jpeg:https://churchstpub.com/wp-content/uploads/2025/01/free_billiards01.jpg
END:VEVENT
BEGIN:VEVENT
DTSTART;VALUE=DATE:20250429
DTEND;VALUE=DATE:20250430
DTSTAMP:20260420T232821
CREATED:20250328T120805Z
LAST-MODIFIED:20250328T122959Z
UID:71760-1745884800-1745971199@churchstpub.com
SUMMARY:SOIRÉE TRIVIA - Tous les mardis **Réservation obligatoire**
DESCRIPTION:20$ – Pichet de Canadian ou Moosehead
URL:https://churchstpub.com/fr/eventscalendar/soiree-trivia-tous-les-mardis-reservation-obligatoire-8/
LOCATION:Church St. Pub\, 552 rue de l’Église\, Verdun\, Quebec\, H4G 3E4\, Canada
ATTACH;FMTTYPE=image/jpeg:https://churchstpub.com/wp-content/uploads/2025/01/trivia_night01.jpg
END:VEVENT
BEGIN:VEVENT
DTSTART;VALUE=DATE:20250430
DTEND;VALUE=DATE:20250501
DTSTAMP:20260420T232821
CREATED:20250429T191600Z
LAST-MODIFIED:20250429T191600Z
UID:71827-1745971200-1746057599@churchstpub.com
SUMMARY:Soirée Fireball - Tous les mercredis (18h00 - 22h00)
DESCRIPTION:9$ – Cocktail « Fireball » | 16$ – Burger de whiskey d’enfer
URL:https://churchstpub.com/fr/eventscalendar/soiree-fireball-tous-les-mercredis-18h00-22h00/
LOCATION:Church St. Pub\, 552 rue de l’Église\, Verdun\, Quebec\, H4G 3E4\, Canada
ATTACH;FMTTYPE=image/jpeg:https://churchstpub.com/wp-content/uploads/2025/04/churchpub_fireball.jpg
END:VEVENT
END:VCALENDAR