BEGIN:VCALENDAR
VERSION:2.0
PRODID:-//Churchstpub - ECPv6.15.16//NONSGML v1.0//EN
CALSCALE:GREGORIAN
METHOD:PUBLISH
X-ORIGINAL-URL:https://churchstpub.com/fr/
X-WR-CALDESC:Évènements pour Churchstpub
REFRESH-INTERVAL;VALUE=DURATION:PT1H
X-Robots-Tag:noindex
X-PUBLISHED-TTL:PT1H
BEGIN:VTIMEZONE
TZID:America/New_York
BEGIN:DAYLIGHT
TZOFFSETFROM:-0500
TZOFFSETTO:-0400
TZNAME:EDT
DTSTART:20240310T070000
END:DAYLIGHT
BEGIN:STANDARD
TZOFFSETFROM:-0400
TZOFFSETTO:-0500
TZNAME:EST
DTSTART:20241103T060000
END:STANDARD
BEGIN:DAYLIGHT
TZOFFSETFROM:-0500
TZOFFSETTO:-0400
TZNAME:EDT
DTSTART:20250309T070000
END:DAYLIGHT
BEGIN:STANDARD
TZOFFSETFROM:-0400
TZOFFSETTO:-0500
TZNAME:EST
DTSTART:20251102T060000
END:STANDARD
BEGIN:DAYLIGHT
TZOFFSETFROM:-0500
TZOFFSETTO:-0400
TZNAME:EDT
DTSTART:20260308T070000
END:DAYLIGHT
BEGIN:STANDARD
TZOFFSETFROM:-0400
TZOFFSETTO:-0500
TZNAME:EST
DTSTART:20261101T060000
END:STANDARD
END:VTIMEZONE
BEGIN:VEVENT
DTSTART;VALUE=DATE:20250602
DTEND;VALUE=DATE:20250603
DTSTAMP:20260420T161425
CREATED:20250530T144810Z
LAST-MODIFIED:20250530T144810Z
UID:71914-1748822400-1748908799@churchstpub.com
SUMMARY:Lundi billiard GRATUIT toute la journée
DESCRIPTION:15 $ – Ailes de poulet | 20 $ – Pichet Canadian ou Moosehead
URL:https://churchstpub.com/fr/eventscalendar/lundi-billiard-gratuit-toute-la-journee-18/
ATTACH;FMTTYPE=image/jpeg:https://churchstpub.com/wp-content/uploads/2025/01/free_billiards01.jpg
END:VEVENT
BEGIN:VEVENT
DTSTART;VALUE=DATE:20250603
DTEND;VALUE=DATE:20250604
DTSTAMP:20260420T161425
CREATED:20250530T145144Z
LAST-MODIFIED:20250530T145144Z
UID:71919-1748908800-1748995199@churchstpub.com
SUMMARY:SOIRÉE TRIVIA - Tous les mardis **Réservation obligatoire**
DESCRIPTION:20 $ – Pichet Canadian ou Moosehead
URL:https://churchstpub.com/fr/eventscalendar/soiree-trivia-tous-les-mardis-reservation-obligatoire-13/
ATTACH;FMTTYPE=image/jpeg:https://churchstpub.com/wp-content/uploads/2025/01/trivia_night01.jpg
END:VEVENT
BEGIN:VEVENT
DTSTART;VALUE=DATE:20250604
DTEND;VALUE=DATE:20250605
DTSTAMP:20260420T161425
CREATED:20250530T145300Z
LAST-MODIFIED:20250530T145300Z
UID:71920-1748995200-1749081599@churchstpub.com
SUMMARY:Soirée Fireball - Tous les mercredis (18h00 - 22h00)
DESCRIPTION:9$ – Cocktail « Fireball » | 16$ – Burger whiskey d’enfer
URL:https://churchstpub.com/fr/eventscalendar/soiree-fireball-tous-les-mercredis-18h00-22h00-2/
ATTACH;FMTTYPE=image/jpeg:https://churchstpub.com/wp-content/uploads/2025/04/churchpub_fireball.jpg
END:VEVENT
BEGIN:VEVENT
DTSTART;VALUE=DATE:20250605
DTEND;VALUE=DATE:20250606
DTSTAMP:20260420T161425
CREATED:20250530T145441Z
LAST-MODIFIED:20250530T145441Z
UID:71923-1749081600-1749167999@churchstpub.com
SUMMARY:Jeudi des Confessions
DESCRIPTION:6$ – Cocktails Confessionnels (18h – 21h) | 1$/ch. Huitres
URL:https://churchstpub.com/fr/eventscalendar/jeudi-des-confessions-7/
ATTACH;FMTTYPE=image/jpeg:https://churchstpub.com/wp-content/uploads/2025/04/confessional.jpg
END:VEVENT
BEGIN:VEVENT
DTSTART;VALUE=DATE:20250607
DTEND;VALUE=DATE:20250608
DTSTAMP:20260420T161425
CREATED:20250530T145751Z
LAST-MODIFIED:20250530T145751Z
UID:71926-1749254400-1749340799@churchstpub.com
SUMMARY:Musique en direct avec : Eric Farran (the Ramblers)
DESCRIPTION:Cocktail du barman 11$ | Musique en direct 20h
URL:https://churchstpub.com/fr/eventscalendar/musique-en-direct-avec-eric-farran-the-ramblers/
ATTACH;FMTTYPE=image/jpeg:https://churchstpub.com/wp-content/uploads/2025/01/live_bands01.jpg
END:VEVENT
BEGIN:VEVENT
DTSTART;VALUE=DATE:20250609
DTEND;VALUE=DATE:20250610
DTSTAMP:20260420T161425
CREATED:20250530T150113Z
LAST-MODIFIED:20250530T150113Z
UID:71930-1749427200-1749513599@churchstpub.com
SUMMARY:Lundi billiard GRATUIT toute la journée
DESCRIPTION:15 $ – Ailes de poulet | 20 $ – Pichet Canadian ou Moosehead
URL:https://churchstpub.com/fr/eventscalendar/lundi-billiard-gratuit-toute-la-journee-19/
ATTACH;FMTTYPE=image/jpeg:https://churchstpub.com/wp-content/uploads/2025/01/free_billiards01.jpg
END:VEVENT
BEGIN:VEVENT
DTSTART;VALUE=DATE:20250610
DTEND;VALUE=DATE:20250611
DTSTAMP:20260420T161425
CREATED:20250530T150247Z
LAST-MODIFIED:20250530T150531Z
UID:71932-1749513600-1749599999@churchstpub.com
SUMMARY:SOIRÉE TRIVIA - Tous les mardis **Réservation obligatoire**
DESCRIPTION:20 $ – Pichet Canadian ou Moosehead
URL:https://churchstpub.com/fr/eventscalendar/soiree-trivia-tous-les-mardis-reservation-obligatoire-14/
ATTACH;FMTTYPE=image/jpeg:https://churchstpub.com/wp-content/uploads/2025/01/trivia_night01.jpg
END:VEVENT
BEGIN:VEVENT
DTSTART;VALUE=DATE:20250611
DTEND;VALUE=DATE:20250612
DTSTAMP:20260420T161425
CREATED:20250530T150950Z
LAST-MODIFIED:20250530T150950Z
UID:71940-1749600000-1749686399@churchstpub.com
SUMMARY:Soirée Fireball - Tous les mercredis (18h-22h)
DESCRIPTION:9$ – Cocktail « Fireball » | 16$ – Burger whiskey d’enfer
URL:https://churchstpub.com/fr/eventscalendar/soiree-fireball-tous-les-mercredis-18h-22h-6/
ATTACH;FMTTYPE=image/jpeg:https://churchstpub.com/wp-content/uploads/2025/04/churchpub_fireball.jpg
END:VEVENT
BEGIN:VEVENT
DTSTART;VALUE=DATE:20250612
DTEND;VALUE=DATE:20250613
DTSTAMP:20260420T161425
CREATED:20250530T151051Z
LAST-MODIFIED:20250530T151051Z
UID:71941-1749686400-1749772799@churchstpub.com
SUMMARY:Jeudi des Confessions
DESCRIPTION:6 $ – Cocktails confessionnels (de 18 h à 21 h) | Huîtres 1 $ ch.
URL:https://churchstpub.com/fr/eventscalendar/jeudi-des-confessions-8/
ATTACH;FMTTYPE=image/jpeg:https://churchstpub.com/wp-content/uploads/2025/04/confessional.jpg
END:VEVENT
BEGIN:VEVENT
DTSTART;VALUE=DATE:20250614
DTEND;VALUE=DATE:20250615
DTSTAMP:20260420T161425
CREATED:20250530T151355Z
LAST-MODIFIED:20250530T151355Z
UID:71944-1749859200-1749945599@churchstpub.com
SUMMARY:Musique en direct avec : Jerry Torres (Troubadour)
DESCRIPTION:Cocktail du barman 11$ | Musique en direct 20h
URL:https://churchstpub.com/fr/eventscalendar/musique-en-direct-avec-jerry-torres-troubadour/
ATTACH;FMTTYPE=image/jpeg:https://churchstpub.com/wp-content/uploads/2025/01/live_bands01.jpg
END:VEVENT
BEGIN:VEVENT
DTSTART;VALUE=DATE:20250616
DTEND;VALUE=DATE:20250617
DTSTAMP:20260420T161425
CREATED:20250530T151539Z
LAST-MODIFIED:20250530T151539Z
UID:71949-1750032000-1750118399@churchstpub.com
SUMMARY:Lundi billiard GRATUIT toute la journée
DESCRIPTION:15 $ – Ailes de poulet | 20 $ – Pichet Canadian ou Moosehead
URL:https://churchstpub.com/fr/eventscalendar/lundi-billiard-gratuit-toute-la-journee-20/
ATTACH;FMTTYPE=image/jpeg:https://churchstpub.com/wp-content/uploads/2025/01/free_billiards01.jpg
END:VEVENT
BEGIN:VEVENT
DTSTART;VALUE=DATE:20250617
DTEND;VALUE=DATE:20250618
DTSTAMP:20260420T161425
CREATED:20250530T151642Z
LAST-MODIFIED:20250530T151642Z
UID:71952-1750118400-1750204799@churchstpub.com
SUMMARY:SOIRÉE TRIVIA - Tous les mardis **Réservation obligatoire**
DESCRIPTION:20 $ – Pichet Canadian ou Moosehead
URL:https://churchstpub.com/fr/eventscalendar/soiree-trivia-tous-les-mardis-reservation-obligatoire-15/
ATTACH;FMTTYPE=image/jpeg:https://churchstpub.com/wp-content/uploads/2025/01/trivia_night01.jpg
END:VEVENT
BEGIN:VEVENT
DTSTART;VALUE=DATE:20250618
DTEND;VALUE=DATE:20250619
DTSTAMP:20260420T161425
CREATED:20250530T151751Z
LAST-MODIFIED:20250530T151751Z
UID:71954-1750204800-1750291199@churchstpub.com
SUMMARY:Soirée Fireball - Tous les mercredis (18h-22h)
DESCRIPTION:9$ – Cocktail « Fireball » | 16$ – Burger whiskey d’enfer
URL:https://churchstpub.com/fr/eventscalendar/soiree-fireball-tous-les-mercredis-18h-22h-7/
ATTACH;FMTTYPE=image/jpeg:https://churchstpub.com/wp-content/uploads/2025/04/churchpub_fireball.jpg
END:VEVENT
BEGIN:VEVENT
DTSTART;VALUE=DATE:20250619
DTEND;VALUE=DATE:20250620
DTSTAMP:20260420T161425
CREATED:20250530T151911Z
LAST-MODIFIED:20250530T151911Z
UID:71956-1750291200-1750377599@churchstpub.com
SUMMARY:Jeudi des Confessions
DESCRIPTION:6 $ – Cocktails confessionnels (de 18 h à 21 h) | Huîtres 1 $ ch.
URL:https://churchstpub.com/fr/eventscalendar/jeudi-des-confessions-9/
ATTACH;FMTTYPE=image/jpeg:https://churchstpub.com/wp-content/uploads/2025/04/confessional.jpg
END:VEVENT
BEGIN:VEVENT
DTSTART;VALUE=DATE:20250621
DTEND;VALUE=DATE:20250622
DTSTAMP:20260420T161425
CREATED:20250530T152105Z
LAST-MODIFIED:20250530T152105Z
UID:71959-1750464000-1750550399@churchstpub.com
SUMMARY:Musique en direct avec : Josh Carey (Po Lazarus Duo)
DESCRIPTION:Cocktail du barman 11$ | Musique en direct 20h
URL:https://churchstpub.com/fr/eventscalendar/musique-en-direct-avec-josh-carey-po-lazarus-duo/
ATTACH;FMTTYPE=image/jpeg:https://churchstpub.com/wp-content/uploads/2025/01/live_bands01.jpg
END:VEVENT
BEGIN:VEVENT
DTSTART;VALUE=DATE:20250623
DTEND;VALUE=DATE:20250624
DTSTAMP:20260420T161425
CREATED:20250530T204217Z
LAST-MODIFIED:20250530T204217Z
UID:71963-1750636800-1750723199@churchstpub.com
SUMMARY:Lundi billiard GRATUIT toute la journée
DESCRIPTION:15 $ – Ailes de poulet | 20 $ – Pichet Canadian ou Moosehead
URL:https://churchstpub.com/fr/eventscalendar/lundi-billiard-gratuit-toute-la-journee-21/
ATTACH;FMTTYPE=image/jpeg:https://churchstpub.com/wp-content/uploads/2025/01/free_billiards01.jpg
END:VEVENT
BEGIN:VEVENT
DTSTART;VALUE=DATE:20250624
DTEND;VALUE=DATE:20250625
DTSTAMP:20260420T161425
CREATED:20250530T204409Z
LAST-MODIFIED:20250530T204409Z
UID:71967-1750723200-1750809599@churchstpub.com
SUMMARY:SOIRÉE TRIVIA - Tous les mardis **Réservation obligatoire**
DESCRIPTION:20 $ – Pichet Canadian ou Moosehead
URL:https://churchstpub.com/fr/eventscalendar/soiree-trivia-tous-les-mardis-reservation-obligatoire-16/
ATTACH;FMTTYPE=image/jpeg:https://churchstpub.com/wp-content/uploads/2025/01/trivia_night01.jpg
END:VEVENT
BEGIN:VEVENT
DTSTART;VALUE=DATE:20250625
DTEND;VALUE=DATE:20250626
DTSTAMP:20260420T161425
CREATED:20250530T204507Z
LAST-MODIFIED:20250530T204507Z
UID:71969-1750809600-1750895999@churchstpub.com
SUMMARY:Soirée Fireball - Tous les mercredis (18h-22h)
DESCRIPTION:9$ – Cocktail « Fireball » | 16$ – Burger whiskey d’enfer
URL:https://churchstpub.com/fr/eventscalendar/soiree-fireball-tous-les-mercredis-18h-22h-8/
ATTACH;FMTTYPE=image/jpeg:https://churchstpub.com/wp-content/uploads/2025/04/churchpub_fireball.jpg
END:VEVENT
BEGIN:VEVENT
DTSTART;VALUE=DATE:20250626
DTEND;VALUE=DATE:20250627
DTSTAMP:20260420T161425
CREATED:20250530T204658Z
LAST-MODIFIED:20250530T204658Z
UID:71971-1750896000-1750982399@churchstpub.com
SUMMARY:Jeudi des Confessions
DESCRIPTION:6$ – Cocktails Confessionnels (18h – 21h) | 1$/ch. Huitres
URL:https://churchstpub.com/fr/eventscalendar/jeudi-des-confessions-10/
ATTACH;FMTTYPE=image/jpeg:https://churchstpub.com/wp-content/uploads/2025/04/confessional.jpg
END:VEVENT
BEGIN:VEVENT
DTSTART;VALUE=DATE:20250628
DTEND;VALUE=DATE:20250629
DTSTAMP:20260420T161425
CREATED:20250530T205039Z
LAST-MODIFIED:20250530T205039Z
UID:71974-1751068800-1751155199@churchstpub.com
SUMMARY:Musique en direct avec : Joao Roquer Duo\, Latin/Bossa Nova
DESCRIPTION:Cocktail du barman 11$ | Musique en direct 20h
URL:https://churchstpub.com/fr/eventscalendar/musique-en-direct-avec-joao-roquer-duo-latin-bossa-nova/
ATTACH;FMTTYPE=image/jpeg:https://churchstpub.com/wp-content/uploads/2025/01/live_bands01.jpg
END:VEVENT
BEGIN:VEVENT
DTSTART;VALUE=DATE:20250630
DTEND;VALUE=DATE:20250701
DTSTAMP:20260420T161425
CREATED:20250630T183436Z
LAST-MODIFIED:20250630T183436Z
UID:71993-1751241600-1751327999@churchstpub.com
SUMMARY:Lundi billiard GRATUIT toute la journée
DESCRIPTION:15 $ – Ailes de poulet | 20 $ – Pichet Canadian ou Moosehead
URL:https://churchstpub.com/fr/eventscalendar/lundi-billiard-gratuit-toute-la-journee-22/
ATTACH;FMTTYPE=image/jpeg:https://churchstpub.com/wp-content/uploads/2025/01/free_billiards01.jpg
END:VEVENT
END:VCALENDAR