BEGIN:VCALENDAR
VERSION:2.0
PRODID:-//Churchstpub - ECPv6.15.16//NONSGML v1.0//EN
CALSCALE:GREGORIAN
METHOD:PUBLISH
X-WR-CALNAME:Churchstpub
X-ORIGINAL-URL:https://churchstpub.com/fr/
X-WR-CALDESC:Évènements pour Churchstpub
REFRESH-INTERVAL;VALUE=DURATION:PT1H
X-Robots-Tag:noindex
X-PUBLISHED-TTL:PT1H
BEGIN:VTIMEZONE
TZID:America/New_York
BEGIN:DAYLIGHT
TZOFFSETFROM:-0500
TZOFFSETTO:-0400
TZNAME:EDT
DTSTART:20240310T070000
END:DAYLIGHT
BEGIN:STANDARD
TZOFFSETFROM:-0400
TZOFFSETTO:-0500
TZNAME:EST
DTSTART:20241103T060000
END:STANDARD
BEGIN:DAYLIGHT
TZOFFSETFROM:-0500
TZOFFSETTO:-0400
TZNAME:EDT
DTSTART:20250309T070000
END:DAYLIGHT
BEGIN:STANDARD
TZOFFSETFROM:-0400
TZOFFSETTO:-0500
TZNAME:EST
DTSTART:20251102T060000
END:STANDARD
BEGIN:DAYLIGHT
TZOFFSETFROM:-0500
TZOFFSETTO:-0400
TZNAME:EDT
DTSTART:20260308T070000
END:DAYLIGHT
BEGIN:STANDARD
TZOFFSETFROM:-0400
TZOFFSETTO:-0500
TZNAME:EST
DTSTART:20261101T060000
END:STANDARD
END:VTIMEZONE
BEGIN:VEVENT
DTSTART;VALUE=DATE:20251001
DTEND;VALUE=DATE:20251002
DTSTAMP:20260420T011519
CREATED:20250930T171406Z
LAST-MODIFIED:20250930T171406Z
UID:72224-1759276800-1759363199@churchstpub.com
SUMMARY:Soirée Fireball - Tous les mercredis (18h-22h)
DESCRIPTION:9$ – Cocktail « Fireball » | 16$ – Burger whiskey d’enfer
URL:https://churchstpub.com/fr/eventscalendar/soiree-fireball-tous-les-mercredis-18h-22h-22/
ATTACH;FMTTYPE=image/jpeg:https://churchstpub.com/wp-content/uploads/2025/09/fireball2.jpg
END:VEVENT
BEGIN:VEVENT
DTSTART;VALUE=DATE:20251002
DTEND;VALUE=DATE:20251003
DTSTAMP:20260420T011519
CREATED:20250930T171549Z
LAST-MODIFIED:20250930T171549Z
UID:72227-1759363200-1759449599@churchstpub.com
SUMMARY:Jeudi des Confessions
DESCRIPTION:6$ – Cocktails Confessionnels (18h – 21h) | Huitres 1$/ch.
URL:https://churchstpub.com/fr/eventscalendar/jeudi-des-confessions-24/
ATTACH;FMTTYPE=image/jpeg:https://churchstpub.com/wp-content/uploads/2025/04/confessional.jpg
END:VEVENT
BEGIN:VEVENT
DTSTART;VALUE=DATE:20251006
DTEND;VALUE=DATE:20251007
DTSTAMP:20260420T011519
CREATED:20250930T171825Z
LAST-MODIFIED:20250930T171825Z
UID:72230-1759708800-1759795199@churchstpub.com
SUMMARY:Lundi billiard GRATUIT toute la journée
DESCRIPTION:15 $ – Ailes de poulet | 20 $ – Pichet Canadian ou Moosehead
URL:https://churchstpub.com/fr/eventscalendar/lundi-billiard-gratuit-toute-la-journee-36/
ATTACH;FMTTYPE=image/jpeg:https://churchstpub.com/wp-content/uploads/2025/09/poolnew.jpg
END:VEVENT
BEGIN:VEVENT
DTSTART;VALUE=DATE:20251007
DTEND;VALUE=DATE:20251008
DTSTAMP:20260420T011519
CREATED:20250930T172022Z
LAST-MODIFIED:20250930T172022Z
UID:72233-1759795200-1759881599@churchstpub.com
SUMMARY:SOIRÉE TRIVIA - Tous les mardis **Réservation obligatoire**
DESCRIPTION:20 $ – Pichet Canadian ou Moosehead
URL:https://churchstpub.com/fr/eventscalendar/soiree-trivia-tous-les-mardis-reservation-obligatoire-30/
ATTACH;FMTTYPE=image/jpeg:https://churchstpub.com/wp-content/uploads/2025/01/trivia_night01.jpg
END:VEVENT
BEGIN:VEVENT
DTSTART;VALUE=DATE:20251008
DTEND;VALUE=DATE:20251009
DTSTAMP:20260420T011519
CREATED:20250930T172239Z
LAST-MODIFIED:20250930T172239Z
UID:72236-1759881600-1759967999@churchstpub.com
SUMMARY:Soirée Fireball - Tous les mercredis (18h-22h)
DESCRIPTION:9$ – Cocktail « Fireball » | 16$ – Burger whiskey d’enfer
URL:https://churchstpub.com/fr/eventscalendar/soiree-fireball-tous-les-mercredis-18h-22h-23/
ATTACH;FMTTYPE=image/jpeg:https://churchstpub.com/wp-content/uploads/2025/09/fireball2.jpg
END:VEVENT
BEGIN:VEVENT
DTSTART;VALUE=DATE:20251009
DTEND;VALUE=DATE:20251010
DTSTAMP:20260420T011519
CREATED:20250930T172453Z
LAST-MODIFIED:20250930T172453Z
UID:72239-1759968000-1760054399@churchstpub.com
SUMMARY:Jeudi des Confessions
DESCRIPTION:6$ – Cocktails Confessionnels (18h – 21h) | Huitres 1$/ch.
URL:https://churchstpub.com/fr/eventscalendar/jeudi-des-confessions-25/
ATTACH;FMTTYPE=image/jpeg:https://churchstpub.com/wp-content/uploads/2025/04/confessional.jpg
END:VEVENT
BEGIN:VEVENT
DTSTART;VALUE=DATE:20251011
DTEND;VALUE=DATE:20251012
DTSTAMP:20260420T011519
CREATED:20250930T172730Z
LAST-MODIFIED:20250930T172730Z
UID:72242-1760140800-1760227199@churchstpub.com
SUMMARY:Live Music Night featuring: Underground Divas
DESCRIPTION:Cocktail du barman 11$ | Musique en direct 20h
URL:https://churchstpub.com/fr/eventscalendar/live-music-night-featuring-underground-divas/
ATTACH;FMTTYPE=image/jpeg:https://churchstpub.com/wp-content/uploads/2025/09/liveband2.jpg
END:VEVENT
BEGIN:VEVENT
DTSTART;VALUE=DATE:20251013
DTEND;VALUE=DATE:20251014
DTSTAMP:20260420T011519
CREATED:20250930T172913Z
LAST-MODIFIED:20250930T172913Z
UID:72245-1760313600-1760399999@churchstpub.com
SUMMARY:Lundi billiard GRATUIT toute la journée
DESCRIPTION:15 $ – Ailes de poulet | 20 $ – Pichet Canadian ou Moosehead
URL:https://churchstpub.com/fr/eventscalendar/lundi-billiard-gratuit-toute-la-journee-37/
ATTACH;FMTTYPE=image/jpeg:https://churchstpub.com/wp-content/uploads/2025/09/poolnew.jpg
END:VEVENT
BEGIN:VEVENT
DTSTART;VALUE=DATE:20251014
DTEND;VALUE=DATE:20251015
DTSTAMP:20260420T011519
CREATED:20250930T173757Z
LAST-MODIFIED:20250930T173757Z
UID:72249-1760400000-1760486399@churchstpub.com
SUMMARY:SOIRÉE TRIVIA - Tous les mardis **Réservation obligatoire**
DESCRIPTION:$20 – Pichet de Canadian ou Moosehead
URL:https://churchstpub.com/fr/eventscalendar/soiree-trivia-tous-les-mardis-reservation-obligatoire-31/
ATTACH;FMTTYPE=image/jpeg:https://churchstpub.com/wp-content/uploads/2025/01/trivia_night01.jpg
END:VEVENT
BEGIN:VEVENT
DTSTART;VALUE=DATE:20251015
DTEND;VALUE=DATE:20251016
DTSTAMP:20260420T011519
CREATED:20250930T173932Z
LAST-MODIFIED:20250930T173932Z
UID:72252-1760486400-1760572799@churchstpub.com
SUMMARY:Soirée Fireball - Tous les mercredis (18h-22h)
DESCRIPTION:9$ – Cocktail « Fireball » | 16$ – Burger whiskey d’enfer
URL:https://churchstpub.com/fr/eventscalendar/soiree-fireball-tous-les-mercredis-18h-22h-24/
ATTACH;FMTTYPE=image/jpeg:https://churchstpub.com/wp-content/uploads/2025/09/fireball2.jpg
END:VEVENT
BEGIN:VEVENT
DTSTART;VALUE=DATE:20251016
DTEND;VALUE=DATE:20251017
DTSTAMP:20260420T011519
CREATED:20250930T174552Z
LAST-MODIFIED:20250930T174552Z
UID:72254-1760572800-1760659199@churchstpub.com
SUMMARY:Jeudi des Confessions
DESCRIPTION:6$ – Cocktails Confessionnels (18h – 21h) | Huitres 1$/ch.
URL:https://churchstpub.com/fr/eventscalendar/jeudi-des-confessions-26/
ATTACH;FMTTYPE=image/jpeg:https://churchstpub.com/wp-content/uploads/2025/04/confessional.jpg
END:VEVENT
BEGIN:VEVENT
DTSTART;VALUE=DATE:20251018
DTEND;VALUE=DATE:20251019
DTSTAMP:20260420T011519
CREATED:20250930T174945Z
LAST-MODIFIED:20250930T174945Z
UID:72258-1760745600-1760831999@churchstpub.com
SUMMARY:Live Music Night featuring: Mike Uzan
DESCRIPTION:Cocktail du barman 11$ | Musique en direct 20h
URL:https://churchstpub.com/fr/eventscalendar/live-music-night-featuring-mike-uzan/
ATTACH;FMTTYPE=image/jpeg:https://churchstpub.com/wp-content/uploads/2025/09/liveband2.jpg
END:VEVENT
BEGIN:VEVENT
DTSTART;VALUE=DATE:20251020
DTEND;VALUE=DATE:20251021
DTSTAMP:20260420T011519
CREATED:20250930T175132Z
LAST-MODIFIED:20250930T175132Z
UID:72260-1760918400-1761004799@churchstpub.com
SUMMARY:Lundi billiard GRATUIT toute la journée
DESCRIPTION:15 $ – Ailes de poulet | 20 $ – Pichet Canadian ou Moosehead
URL:https://churchstpub.com/fr/eventscalendar/lundi-billiard-gratuit-toute-la-journee-38/
ATTACH;FMTTYPE=image/jpeg:https://churchstpub.com/wp-content/uploads/2025/09/poolnew.jpg
END:VEVENT
BEGIN:VEVENT
DTSTART;VALUE=DATE:20251021
DTEND;VALUE=DATE:20251022
DTSTAMP:20260420T011519
CREATED:20250930T175632Z
LAST-MODIFIED:20250930T175632Z
UID:72264-1761004800-1761091199@churchstpub.com
SUMMARY:SOIRÉE TRIVIA - Tous les mardis **Réservation obligatoire**
DESCRIPTION:$20 – Pichet de Canadian ou Moosehead
URL:https://churchstpub.com/fr/eventscalendar/soiree-trivia-tous-les-mardis-reservation-obligatoire-32/
ATTACH;FMTTYPE=image/jpeg:https://churchstpub.com/wp-content/uploads/2025/01/trivia_night01.jpg
END:VEVENT
BEGIN:VEVENT
DTSTART;VALUE=DATE:20251022
DTEND;VALUE=DATE:20251023
DTSTAMP:20260420T011519
CREATED:20250930T175759Z
LAST-MODIFIED:20250930T175759Z
UID:72266-1761091200-1761177599@churchstpub.com
SUMMARY:Soirée Fireball - Tous les mercredis (18h-22h)
DESCRIPTION:9$ – Cocktail « Fireball » | 16$ – Burger whiskey d’enfer
URL:https://churchstpub.com/fr/eventscalendar/soiree-fireball-tous-les-mercredis-18h-22h-25/
ATTACH;FMTTYPE=image/jpeg:https://churchstpub.com/wp-content/uploads/2025/09/fireball2.jpg
END:VEVENT
BEGIN:VEVENT
DTSTART;VALUE=DATE:20251023
DTEND;VALUE=DATE:20251024
DTSTAMP:20260420T011519
CREATED:20250930T180032Z
LAST-MODIFIED:20250930T180032Z
UID:72271-1761177600-1761263999@churchstpub.com
SUMMARY:Jeudi des Confessions
DESCRIPTION:6$ – Cocktails Confessionnels (18h – 21h) | Huitres 1$/ch.
URL:https://churchstpub.com/fr/eventscalendar/jeudi-des-confessions-27/
ATTACH;FMTTYPE=image/jpeg:https://churchstpub.com/wp-content/uploads/2025/04/confessional.jpg
END:VEVENT
BEGIN:VEVENT
DTSTART;VALUE=DATE:20251025
DTEND;VALUE=DATE:20251026
DTSTAMP:20260420T011519
CREATED:20250930T180152Z
LAST-MODIFIED:20250930T180152Z
UID:72274-1761350400-1761436799@churchstpub.com
SUMMARY:Live Music Night featuring: Irish Duo
DESCRIPTION:Cocktail du barman 11$ | Musique en direct 20h
URL:https://churchstpub.com/fr/eventscalendar/live-music-night-featuring-irish-duo/
ATTACH;FMTTYPE=image/jpeg:https://churchstpub.com/wp-content/uploads/2025/09/liveband2.jpg
END:VEVENT
BEGIN:VEVENT
DTSTART;VALUE=DATE:20251027
DTEND;VALUE=DATE:20251028
DTSTAMP:20260420T011519
CREATED:20250930T180406Z
LAST-MODIFIED:20250930T180406Z
UID:72276-1761523200-1761609599@churchstpub.com
SUMMARY:Lundi billiard GRATUIT toute la journée
DESCRIPTION:15 $ – Ailes de poulet | 20 $ – Pichet Canadian ou Moosehead
URL:https://churchstpub.com/fr/eventscalendar/lundi-billiard-gratuit-toute-la-journee-39/
ATTACH;FMTTYPE=image/jpeg:https://churchstpub.com/wp-content/uploads/2025/09/poolnew.jpg
END:VEVENT
BEGIN:VEVENT
DTSTART;VALUE=DATE:20251028
DTEND;VALUE=DATE:20251029
DTSTAMP:20260420T011519
CREATED:20250930T180535Z
LAST-MODIFIED:20250930T180535Z
UID:72282-1761609600-1761695999@churchstpub.com
SUMMARY:SOIRÉE TRIVIA - Tous les mardis **Réservation obligatoire**
DESCRIPTION:$20 – Pichet de Canadian ou Moosehead
URL:https://churchstpub.com/fr/eventscalendar/soiree-trivia-tous-les-mardis-reservation-obligatoire-33/
ATTACH;FMTTYPE=image/jpeg:https://churchstpub.com/wp-content/uploads/2025/01/trivia_night01.jpg
END:VEVENT
BEGIN:VEVENT
DTSTART;VALUE=DATE:20251029
DTEND;VALUE=DATE:20251030
DTSTAMP:20260420T011519
CREATED:20250930T180634Z
LAST-MODIFIED:20250930T180634Z
UID:72283-1761696000-1761782399@churchstpub.com
SUMMARY:Soirée Fireball - Tous les mercredis (18h-22h)
DESCRIPTION:9$ – Cocktail « Fireball » | 16$ – Burger whiskey d’enfer
URL:https://churchstpub.com/fr/eventscalendar/soiree-fireball-tous-les-mercredis-18h-22h-26/
ATTACH;FMTTYPE=image/jpeg:https://churchstpub.com/wp-content/uploads/2025/09/fireball2.jpg
END:VEVENT
BEGIN:VEVENT
DTSTART;VALUE=DATE:20251030
DTEND;VALUE=DATE:20251031
DTSTAMP:20260420T011519
CREATED:20250930T180742Z
LAST-MODIFIED:20250930T180742Z
UID:72285-1761782400-1761868799@churchstpub.com
SUMMARY:Jeudi des Confessions
DESCRIPTION:6$ – Cocktails Confessionnels (18h – 21h) | Huitres 1$/ch.
URL:https://churchstpub.com/fr/eventscalendar/jeudi-des-confessions-28/
ATTACH;FMTTYPE=image/jpeg:https://churchstpub.com/wp-content/uploads/2025/04/confessional.jpg
END:VEVENT
END:VCALENDAR