BEGIN:VCALENDAR
VERSION:2.0
PRODID:-//Churchstpub - ECPv6.15.16//NONSGML v1.0//EN
CALSCALE:GREGORIAN
METHOD:PUBLISH
X-ORIGINAL-URL:https://churchstpub.com/fr/
X-WR-CALDESC:Évènements pour Churchstpub
REFRESH-INTERVAL;VALUE=DURATION:PT1H
X-Robots-Tag:noindex
X-PUBLISHED-TTL:PT1H
BEGIN:VTIMEZONE
TZID:America/New_York
BEGIN:DAYLIGHT
TZOFFSETFROM:-0500
TZOFFSETTO:-0400
TZNAME:EDT
DTSTART:20240310T070000
END:DAYLIGHT
BEGIN:STANDARD
TZOFFSETFROM:-0400
TZOFFSETTO:-0500
TZNAME:EST
DTSTART:20241103T060000
END:STANDARD
BEGIN:DAYLIGHT
TZOFFSETFROM:-0500
TZOFFSETTO:-0400
TZNAME:EDT
DTSTART:20250309T070000
END:DAYLIGHT
BEGIN:STANDARD
TZOFFSETFROM:-0400
TZOFFSETTO:-0500
TZNAME:EST
DTSTART:20251102T060000
END:STANDARD
BEGIN:DAYLIGHT
TZOFFSETFROM:-0500
TZOFFSETTO:-0400
TZNAME:EDT
DTSTART:20260308T070000
END:DAYLIGHT
BEGIN:STANDARD
TZOFFSETFROM:-0400
TZOFFSETTO:-0500
TZNAME:EST
DTSTART:20261101T060000
END:STANDARD
END:VTIMEZONE
BEGIN:VEVENT
DTSTART;VALUE=DATE:20251101
DTEND;VALUE=DATE:20251102
DTSTAMP:20260419T212202
CREATED:20251101T015938Z
LAST-MODIFIED:20251101T015938Z
UID:72296-1761955200-1762041599@churchstpub.com
SUMMARY:Musique en directe avec: Joao Roquer Du
DESCRIPTION:Cocktail du barman 11$ | Musique en direct 20h
URL:https://churchstpub.com/fr/eventscalendar/musique-en-directe-avec-joao-roquer-du/
ATTACH;FMTTYPE=image/jpeg:https://churchstpub.com/wp-content/uploads/2025/09/liveband2.jpg
END:VEVENT
BEGIN:VEVENT
DTSTART;VALUE=DATE:20251103
DTEND;VALUE=DATE:20251104
DTSTAMP:20260419T212202
CREATED:20251101T041704Z
LAST-MODIFIED:20251101T041704Z
UID:72300-1762128000-1762214399@churchstpub.com
SUMMARY:Lundi billiard GRATUIT toute la journée
DESCRIPTION:15 $ – Ailes de poulet | 20 $ – Pichet Canadian ou Moosehead
URL:https://churchstpub.com/fr/eventscalendar/lundi-billiard-gratuit-toute-la-journee-41/
ATTACH;FMTTYPE=image/jpeg:https://churchstpub.com/wp-content/uploads/2025/09/poolnew.jpg
END:VEVENT
BEGIN:VEVENT
DTSTART;VALUE=DATE:20251104
DTEND;VALUE=DATE:20251105
DTSTAMP:20260419T212202
CREATED:20251101T042135Z
LAST-MODIFIED:20251101T042135Z
UID:72303-1762214400-1762300799@churchstpub.com
SUMMARY:SOIRÉE TRIVIA - Tous les mardis **Réservation obligatoire**
DESCRIPTION:$20 – Pichet de Canadian ou Moosehead
URL:https://churchstpub.com/fr/eventscalendar/soiree-trivia-tous-les-mardis-reservation-obligatoire-34/
ATTACH;FMTTYPE=image/jpeg:https://churchstpub.com/wp-content/uploads/2025/01/trivia_night01.jpg
END:VEVENT
BEGIN:VEVENT
DTSTART;VALUE=DATE:20251105
DTEND;VALUE=DATE:20251106
DTSTAMP:20260419T212202
CREATED:20251101T042428Z
LAST-MODIFIED:20251101T042428Z
UID:72310-1762300800-1762387199@churchstpub.com
SUMMARY:Soirée Fireball - Tous les mercredis (18h-22h)
DESCRIPTION:9$ – Cocktail « Fireball » | 16$ – Burger whiskey d’enfer
URL:https://churchstpub.com/fr/eventscalendar/soiree-fireball-tous-les-mercredis-18h-22h-27/
ATTACH;FMTTYPE=image/jpeg:https://churchstpub.com/wp-content/uploads/2025/09/fireball2.jpg
END:VEVENT
BEGIN:VEVENT
DTSTART;VALUE=DATE:20251106
DTEND;VALUE=DATE:20251107
DTSTAMP:20260419T212202
CREATED:20251101T042733Z
LAST-MODIFIED:20251101T042733Z
UID:72313-1762387200-1762473599@churchstpub.com
SUMMARY:Jeudi des Confessions
DESCRIPTION:6$ – Cocktails Confessionnels (18h – 21h) | Huitres 1$/ch.
URL:https://churchstpub.com/fr/eventscalendar/jeudi-des-confessions-29/
ATTACH;FMTTYPE=image/jpeg:https://churchstpub.com/wp-content/uploads/2025/04/confessional.jpg
END:VEVENT
BEGIN:VEVENT
DTSTART;VALUE=DATE:20251108
DTEND;VALUE=DATE:20251109
DTSTAMP:20260419T212202
CREATED:20251101T043059Z
LAST-MODIFIED:20251101T043059Z
UID:72316-1762560000-1762646399@churchstpub.com
SUMMARY:Musique en directe avec: Hestia (Irish girl band)
DESCRIPTION:Cocktail du barman 11$ | Musique en direct 20h
URL:https://churchstpub.com/fr/eventscalendar/musique-en-directe-avec-hestia-irish-girl-band/
ATTACH;FMTTYPE=image/jpeg:https://churchstpub.com/wp-content/uploads/2025/01/live_bands02.jpg
END:VEVENT
BEGIN:VEVENT
DTSTART;VALUE=DATE:20251110
DTEND;VALUE=DATE:20251111
DTSTAMP:20260419T212202
CREATED:20251110T184801Z
LAST-MODIFIED:20251110T184801Z
UID:72320-1762732800-1762819199@churchstpub.com
SUMMARY:Lundi billiard GRATUIT toute la journée
DESCRIPTION:15 $ – Ailes de poulet | 20 $ – Pichet Canadian ou Moosehead
URL:https://churchstpub.com/fr/eventscalendar/lundi-billiard-gratuit-toute-la-journee-42/
ATTACH;FMTTYPE=image/jpeg:https://churchstpub.com/wp-content/uploads/2025/09/poolnew.jpg
END:VEVENT
BEGIN:VEVENT
DTSTART;VALUE=DATE:20251111
DTEND;VALUE=DATE:20251112
DTSTAMP:20260419T212202
CREATED:20251110T185719Z
LAST-MODIFIED:20251110T185719Z
UID:72323-1762819200-1762905599@churchstpub.com
SUMMARY:SOIRÉE TRIVIA - Tous les mardis **Réservation obligatoire**
DESCRIPTION:$20 – Pichet de Canadian ou Moosehead
URL:https://churchstpub.com/fr/eventscalendar/soiree-trivia-tous-les-mardis-reservation-obligatoire-35/
ATTACH;FMTTYPE=image/jpeg:https://churchstpub.com/wp-content/uploads/2025/01/trivia_night01.jpg
END:VEVENT
BEGIN:VEVENT
DTSTART;VALUE=DATE:20251112
DTEND;VALUE=DATE:20251113
DTSTAMP:20260419T212202
CREATED:20251110T185938Z
LAST-MODIFIED:20251110T185938Z
UID:72326-1762905600-1762991999@churchstpub.com
SUMMARY:Soirée Fireball - Tous les mercredis (18h-22h)
DESCRIPTION:9$ – Cocktail « Fireball » | 16$ – Burger whiskey d’enfer
URL:https://churchstpub.com/fr/eventscalendar/soiree-fireball-tous-les-mercredis-18h-22h-28/
ATTACH;FMTTYPE=image/jpeg:https://churchstpub.com/wp-content/uploads/2025/09/fireball2.jpg
END:VEVENT
BEGIN:VEVENT
DTSTART;VALUE=DATE:20251113
DTEND;VALUE=DATE:20251114
DTSTAMP:20260419T212202
CREATED:20251110T190119Z
LAST-MODIFIED:20251110T190119Z
UID:72329-1762992000-1763078399@churchstpub.com
SUMMARY:Jeudi des Confessions
DESCRIPTION:6$ – Cocktails Confessionnels (18h – 21h) | Huitres 1$/ch.
URL:https://churchstpub.com/fr/eventscalendar/jeudi-des-confessions-30/
ATTACH;FMTTYPE=image/jpeg:https://churchstpub.com/wp-content/uploads/2025/04/confessional.jpg
END:VEVENT
BEGIN:VEVENT
DTSTART;VALUE=DATE:20251117
DTEND;VALUE=DATE:20251118
DTSTAMP:20260419T212202
CREATED:20251110T191235Z
LAST-MODIFIED:20251110T191235Z
UID:72337-1763337600-1763423999@churchstpub.com
SUMMARY:Lundi billiard GRATUIT toute la journée
DESCRIPTION:15 $ – Ailes de poulet | 20 $ – Pichet Canadian ou Moosehead
URL:https://churchstpub.com/fr/eventscalendar/lundi-billiard-gratuit-toute-la-journee-43/
ATTACH;FMTTYPE=image/jpeg:https://churchstpub.com/wp-content/uploads/2025/09/poolnew.jpg
END:VEVENT
BEGIN:VEVENT
DTSTART;VALUE=DATE:20251118
DTEND;VALUE=DATE:20251119
DTSTAMP:20260419T212202
CREATED:20251110T191405Z
LAST-MODIFIED:20251110T191405Z
UID:72340-1763424000-1763510399@churchstpub.com
SUMMARY:SOIRÉE TRIVIA - Tous les mardis **Réservation obligatoire**
DESCRIPTION:$20 – Pichet de Canadian ou Moosehead
URL:https://churchstpub.com/fr/eventscalendar/soiree-trivia-tous-les-mardis-reservation-obligatoire-36/
ATTACH;FMTTYPE=image/jpeg:https://churchstpub.com/wp-content/uploads/2025/01/trivia_night01.jpg
END:VEVENT
BEGIN:VEVENT
DTSTART;VALUE=DATE:20251119
DTEND;VALUE=DATE:20251120
DTSTAMP:20260419T212202
CREATED:20251110T191544Z
LAST-MODIFIED:20251110T191544Z
UID:72343-1763510400-1763596799@churchstpub.com
SUMMARY:Soirée Fireball - Tous les mercredis (18h-22h)
DESCRIPTION:9$ – Cocktail « Fireball » | 16$ – Burger whiskey d’enfer
URL:https://churchstpub.com/fr/eventscalendar/soiree-fireball-tous-les-mercredis-18h-22h-29/
ATTACH;FMTTYPE=image/jpeg:https://churchstpub.com/wp-content/uploads/2025/09/fireball2.jpg
END:VEVENT
BEGIN:VEVENT
DTSTART;VALUE=DATE:20251120
DTEND;VALUE=DATE:20251121
DTSTAMP:20260419T212202
CREATED:20251110T191717Z
LAST-MODIFIED:20251110T191717Z
UID:72346-1763596800-1763683199@churchstpub.com
SUMMARY:Jeudi des Confessions
DESCRIPTION:6$ – Cocktails Confessionnels (18h – 21h) | Huitres 1$/ch.
URL:https://churchstpub.com/fr/eventscalendar/jeudi-des-confessions-31/
ATTACH;FMTTYPE=image/jpeg:https://churchstpub.com/wp-content/uploads/2025/04/confessional.jpg
END:VEVENT
BEGIN:VEVENT
DTSTART;VALUE=DATE:20251122
DTEND;VALUE=DATE:20251123
DTSTAMP:20260419T212202
CREATED:20251110T191949Z
LAST-MODIFIED:20251110T191949Z
UID:72349-1763769600-1763855999@churchstpub.com
SUMMARY:Live Music Night featuring: The Fangs
DESCRIPTION:Cocktail du barman 11$ | Musique en direct 20h
URL:https://churchstpub.com/fr/eventscalendar/live-music-night-featuring-the-fangs/
ATTACH;FMTTYPE=image/jpeg:https://churchstpub.com/wp-content/uploads/2025/09/liveband2.jpg
END:VEVENT
BEGIN:VEVENT
DTSTART;VALUE=DATE:20251124
DTEND;VALUE=DATE:20251125
DTSTAMP:20260419T212202
CREATED:20251110T192140Z
LAST-MODIFIED:20251110T192140Z
UID:72352-1763942400-1764028799@churchstpub.com
SUMMARY:Lundi billiard GRATUIT toute la journée
DESCRIPTION:15 $ – Ailes de poulet | 20 $ – Pichet Canadian ou Moosehead
URL:https://churchstpub.com/fr/eventscalendar/lundi-billiard-gratuit-toute-la-journee-44/
ATTACH;FMTTYPE=image/jpeg:https://churchstpub.com/wp-content/uploads/2025/09/poolnew.jpg
END:VEVENT
BEGIN:VEVENT
DTSTART;VALUE=DATE:20251125
DTEND;VALUE=DATE:20251126
DTSTAMP:20260419T212202
CREATED:20251110T192328Z
LAST-MODIFIED:20251110T192328Z
UID:72354-1764028800-1764115199@churchstpub.com
SUMMARY:SOIRÉE TRIVIA - Tous les mardis **Réservation obligatoire**
DESCRIPTION:$20 – Pichet de Canadian ou Moosehead
URL:https://churchstpub.com/fr/eventscalendar/soiree-trivia-tous-les-mardis-reservation-obligatoire-37/
ATTACH;FMTTYPE=image/jpeg:https://churchstpub.com/wp-content/uploads/2025/01/trivia_night01.jpg
END:VEVENT
BEGIN:VEVENT
DTSTART;VALUE=DATE:20251126
DTEND;VALUE=DATE:20251127
DTSTAMP:20260419T212202
CREATED:20251110T192602Z
LAST-MODIFIED:20251110T192602Z
UID:72356-1764115200-1764201599@churchstpub.com
SUMMARY:Soirée Fireball - Tous les mercredis (18h-22h)
DESCRIPTION:9$ – Cocktail « Fireball » | 16$ – Burger whiskey d’enfer
URL:https://churchstpub.com/fr/eventscalendar/soiree-fireball-tous-les-mercredis-18h-22h-30/
ATTACH;FMTTYPE=image/jpeg:https://churchstpub.com/wp-content/uploads/2025/09/fireball2.jpg
END:VEVENT
BEGIN:VEVENT
DTSTART;VALUE=DATE:20251127
DTEND;VALUE=DATE:20251128
DTSTAMP:20260419T212202
CREATED:20251110T192858Z
LAST-MODIFIED:20251110T192858Z
UID:72361-1764201600-1764287999@churchstpub.com
SUMMARY:Jeudi des Confessions
DESCRIPTION:6$ – Cocktails Confessionnels (18h – 21h) | Huitres 1$/ch.
URL:https://churchstpub.com/fr/eventscalendar/jeudi-des-confessions-32/
ATTACH;FMTTYPE=image/jpeg:https://churchstpub.com/wp-content/uploads/2025/04/confessional.jpg
END:VEVENT
BEGIN:VEVENT
DTSTART;VALUE=DATE:20251129
DTEND;VALUE=DATE:20251130
DTSTAMP:20260419T212202
CREATED:20251110T193042Z
LAST-MODIFIED:20251110T193042Z
UID:72363-1764374400-1764460799@churchstpub.com
SUMMARY:Musique en directe avec: Hestia (Irish girl band)
DESCRIPTION:Cocktail du barman 11$ | Musique en direct 20h
URL:https://churchstpub.com/fr/eventscalendar/musique-en-directe-avec-hestia-irish-girl-band-2/
ATTACH;FMTTYPE=image/jpeg:https://churchstpub.com/wp-content/uploads/2025/01/live_bands02.jpg
END:VEVENT
END:VCALENDAR