BEGIN:VCALENDAR
VERSION:2.0
PRODID:-//Churchstpub - ECPv6.15.16//NONSGML v1.0//EN
CALSCALE:GREGORIAN
METHOD:PUBLISH
X-ORIGINAL-URL:https://churchstpub.com/fr/
X-WR-CALDESC:Évènements pour Churchstpub
REFRESH-INTERVAL;VALUE=DURATION:PT1H
X-Robots-Tag:noindex
X-PUBLISHED-TTL:PT1H
BEGIN:VTIMEZONE
TZID:America/New_York
BEGIN:DAYLIGHT
TZOFFSETFROM:-0500
TZOFFSETTO:-0400
TZNAME:EDT
DTSTART:20240310T070000
END:DAYLIGHT
BEGIN:STANDARD
TZOFFSETFROM:-0400
TZOFFSETTO:-0500
TZNAME:EST
DTSTART:20241103T060000
END:STANDARD
BEGIN:DAYLIGHT
TZOFFSETFROM:-0500
TZOFFSETTO:-0400
TZNAME:EDT
DTSTART:20250309T070000
END:DAYLIGHT
BEGIN:STANDARD
TZOFFSETFROM:-0400
TZOFFSETTO:-0500
TZNAME:EST
DTSTART:20251102T060000
END:STANDARD
BEGIN:DAYLIGHT
TZOFFSETFROM:-0500
TZOFFSETTO:-0400
TZNAME:EDT
DTSTART:20260308T070000
END:DAYLIGHT
BEGIN:STANDARD
TZOFFSETFROM:-0400
TZOFFSETTO:-0500
TZNAME:EST
DTSTART:20261101T060000
END:STANDARD
END:VTIMEZONE
BEGIN:VEVENT
DTSTART;VALUE=DATE:20251201
DTEND;VALUE=DATE:20251202
DTSTAMP:20260419T171816
CREATED:20251110T193348Z
LAST-MODIFIED:20251110T193348Z
UID:72368-1764547200-1764633599@churchstpub.com
SUMMARY:Lundi billiard GRATUIT toute la journée
DESCRIPTION:15 $ – Ailes de poulet | 20 $ – Pichet Canadian ou Moosehead
URL:https://churchstpub.com/fr/eventscalendar/lundi-billiard-gratuit-toute-la-journee-45/
ATTACH;FMTTYPE=image/jpeg:https://churchstpub.com/wp-content/uploads/2025/09/poolnew.jpg
END:VEVENT
BEGIN:VEVENT
DTSTART;VALUE=DATE:20251201
DTEND;VALUE=DATE:20251221
DTSTAMP:20260419T171816
CREATED:20251201T134323Z
LAST-MODIFIED:20251201T134323Z
UID:72391-1764547200-1766275199@churchstpub.com
SUMMARY:Réservez maintenant votre party de noël!
DESCRIPTION:
URL:https://churchstpub.com/fr/eventscalendar/reservez-maintenant-votre-party-de-noel/
ATTACH;FMTTYPE=image/jpeg:https://churchstpub.com/wp-content/uploads/2025/12/Nov2025A_ChurchSTPub.jpg
END:VEVENT
BEGIN:VEVENT
DTSTART;VALUE=DATE:20251202
DTEND;VALUE=DATE:20251203
DTSTAMP:20260419T171816
CREATED:20251110T193506Z
LAST-MODIFIED:20251110T193506Z
UID:72371-1764633600-1764719999@churchstpub.com
SUMMARY:SOIRÉE TRIVIA - Tous les mardis **Réservation obligatoire**
DESCRIPTION:$20 – Pichet de Canadian ou Moosehead
URL:https://churchstpub.com/fr/eventscalendar/soiree-trivia-tous-les-mardis-reservation-obligatoire-38/
ATTACH;FMTTYPE=image/jpeg:https://churchstpub.com/wp-content/uploads/2025/01/trivia_night01.jpg
END:VEVENT
BEGIN:VEVENT
DTSTART;VALUE=DATE:20251203
DTEND;VALUE=DATE:20251204
DTSTAMP:20260419T171816
CREATED:20251110T193621Z
LAST-MODIFIED:20251202T160031Z
UID:72374-1764720000-1764806399@churchstpub.com
SUMMARY:Game Night!
DESCRIPTION:
URL:https://churchstpub.com/fr/eventscalendar/soiree-fireball-tous-les-mercredis-18h-22h-31/
ATTACH;FMTTYPE=image/jpeg:https://churchstpub.com/wp-content/uploads/2025/11/boardgames.jpg
END:VEVENT
BEGIN:VEVENT
DTSTART;VALUE=DATE:20251204
DTEND;VALUE=DATE:20251205
DTSTAMP:20260419T171816
CREATED:20251110T193734Z
LAST-MODIFIED:20251110T193734Z
UID:72375-1764806400-1764892799@churchstpub.com
SUMMARY:Jeudi des Confessions
DESCRIPTION:6$ – Cocktails Confessionnels (18h – 21h) | Huitres 1$/ch.
URL:https://churchstpub.com/fr/eventscalendar/jeudi-des-confessions-33/
ATTACH;FMTTYPE=image/jpeg:https://churchstpub.com/wp-content/uploads/2025/04/confessional.jpg
END:VEVENT
BEGIN:VEVENT
DTSTART;VALUE=DATE:20251206
DTEND;VALUE=DATE:20251207
DTSTAMP:20260419T171816
CREATED:20251201T132144Z
LAST-MODIFIED:20251201T132144Z
UID:72383-1764979200-1765065599@churchstpub.com
SUMMARY:Live Music Night featuring: Mike Uzan
DESCRIPTION:Cocktail du barman 11$ | Musique en direct 20h
URL:https://churchstpub.com/fr/eventscalendar/live-music-night-featuring-mike-uzan-2/
ATTACH;FMTTYPE=image/jpeg:https://churchstpub.com/wp-content/uploads/2025/09/liveband2.jpg
END:VEVENT
BEGIN:VEVENT
DTSTART;VALUE=DATE:20251207
DTEND;VALUE=DATE:20251208
DTSTAMP:20260419T171816
CREATED:20251201T134023Z
LAST-MODIFIED:20251202T152029Z
UID:72387-1765065600-1765151999@churchstpub.com
SUMMARY:Tous les dimanches – Vin maison 7$ | Pizza (jour/soir) 10$
DESCRIPTION:
URL:https://churchstpub.com/fr/eventscalendar/tous-les-dimanches-vin-maison-6-pizza-jour-soir-10-10/
ATTACH;FMTTYPE=image/jpeg:https://churchstpub.com/wp-content/uploads/2025/12/pizzawine.jpg
END:VEVENT
BEGIN:VEVENT
DTSTART;VALUE=DATE:20251208
DTEND;VALUE=DATE:20251209
DTSTAMP:20260419T171816
CREATED:20251201T134708Z
LAST-MODIFIED:20251201T134708Z
UID:72395-1765152000-1765238399@churchstpub.com
SUMMARY:Lundi billiard GRATUIT toute la journée
DESCRIPTION:15 $ – Ailes de poulet | 20 $ – Pichet Canadian ou Moosehead
URL:https://churchstpub.com/fr/eventscalendar/lundi-billiard-gratuit-toute-la-journee-46/
ATTACH;FMTTYPE=image/jpeg:https://churchstpub.com/wp-content/uploads/2025/09/poolnew.jpg
END:VEVENT
BEGIN:VEVENT
DTSTART;VALUE=DATE:20251208
DTEND;VALUE=DATE:20251209
DTSTAMP:20260419T171816
CREATED:20251201T134812Z
LAST-MODIFIED:20251201T134812Z
UID:72398-1765152000-1765238399@churchstpub.com
SUMMARY:Réservez maintenant votre party de noël!
DESCRIPTION:
URL:https://churchstpub.com/fr/eventscalendar/reservez-maintenant-votre-party-de-noel-2/
ATTACH;FMTTYPE=image/jpeg:https://churchstpub.com/wp-content/uploads/2025/12/Nov2025A_ChurchSTPub.jpg
END:VEVENT
BEGIN:VEVENT
DTSTART;VALUE=DATE:20251209
DTEND;VALUE=DATE:20251210
DTSTAMP:20260419T171816
CREATED:20251201T134921Z
LAST-MODIFIED:20251201T134921Z
UID:72401-1765238400-1765324799@churchstpub.com
SUMMARY:SOIRÉE TRIVIA - Tous les mardis **Réservation obligatoire**
DESCRIPTION:$20 – Pichet de Canadian ou Moosehead
URL:https://churchstpub.com/fr/eventscalendar/soiree-trivia-tous-les-mardis-reservation-obligatoire-39/
ATTACH;FMTTYPE=image/jpeg:https://churchstpub.com/wp-content/uploads/2025/01/trivia_night01.jpg
END:VEVENT
BEGIN:VEVENT
DTSTART;VALUE=DATE:20251210
DTEND;VALUE=DATE:20251211
DTSTAMP:20260419T171816
CREATED:20251201T135036Z
LAST-MODIFIED:20251201T135036Z
UID:72544-1765324800-1765411199@churchstpub.com
SUMMARY:Game Night!
DESCRIPTION:
URL:https://churchstpub.com/fr/eventscalendar/game-night/
ATTACH;FMTTYPE=image/jpeg:https://churchstpub.com/wp-content/uploads/2025/11/boardgames.jpg
END:VEVENT
BEGIN:VEVENT
DTSTART;VALUE=DATE:20251211
DTEND;VALUE=DATE:20251212
DTSTAMP:20260419T171816
CREATED:20251201T135213Z
LAST-MODIFIED:20251201T135213Z
UID:72405-1765411200-1765497599@churchstpub.com
SUMMARY:Jeudi des Confessions
DESCRIPTION:6$ – Cocktails Confessionnels (18h – 21h) | Huitres 1$/ch.
URL:https://churchstpub.com/fr/eventscalendar/jeudi-des-confessions-34/
ATTACH;FMTTYPE=image/jpeg:https://churchstpub.com/wp-content/uploads/2025/04/confessional.jpg
END:VEVENT
BEGIN:VEVENT
DTSTART;VALUE=DATE:20251213
DTEND;VALUE=DATE:20251214
DTSTAMP:20260419T171816
CREATED:20251201T135338Z
LAST-MODIFIED:20251201T135338Z
UID:72409-1765584000-1765670399@churchstpub.com
SUMMARY:Musique en direct avec : Sister Speak
DESCRIPTION:Cocktail du barman 11$ | Musique en direct 20h
URL:https://churchstpub.com/fr/eventscalendar/musique-en-direct-avec-sister-speak-4/
ATTACH;FMTTYPE=image/jpeg:https://churchstpub.com/wp-content/uploads/2025/01/live_bands02.jpg
END:VEVENT
BEGIN:VEVENT
DTSTART;VALUE=DATE:20251214
DTEND;VALUE=DATE:20251215
DTSTAMP:20260419T171816
CREATED:20251201T135711Z
LAST-MODIFIED:20251201T135711Z
UID:72533-1765670400-1765756799@churchstpub.com
SUMMARY:Tous les dimanches – Vin maison 7$ | Pizza (jour/soir) 10$
DESCRIPTION:
URL:https://churchstpub.com/fr/eventscalendar/tous-les-dimanches-vin-maison-7-pizza-jour-soir-10/
ATTACH;FMTTYPE=image/jpeg:https://churchstpub.com/wp-content/uploads/2025/12/pizzawine.jpg
END:VEVENT
BEGIN:VEVENT
DTSTART;VALUE=DATE:20251215
DTEND;VALUE=DATE:20251216
DTSTAMP:20260419T171816
CREATED:20251201T135502Z
LAST-MODIFIED:20251201T135502Z
UID:72411-1765756800-1765843199@churchstpub.com
SUMMARY:Réservez maintenant votre party de noël!
DESCRIPTION:
URL:https://churchstpub.com/fr/eventscalendar/reservez-maintenant-votre-party-de-noel-3/
ATTACH;FMTTYPE=image/jpeg:https://churchstpub.com/wp-content/uploads/2025/12/Nov2025A_ChurchSTPub.jpg
END:VEVENT
BEGIN:VEVENT
DTSTART;VALUE=DATE:20251215
DTEND;VALUE=DATE:20251216
DTSTAMP:20260419T171816
CREATED:20251201T135612Z
LAST-MODIFIED:20251201T135612Z
UID:72418-1765756800-1765843199@churchstpub.com
SUMMARY:Lundi billiard GRATUIT toute la journée
DESCRIPTION:15 $ – Ailes de poulet | 20 $ – Pichet Canadian ou Moosehead
URL:https://churchstpub.com/fr/eventscalendar/lundi-billiard-gratuit-toute-la-journee-47/
ATTACH;FMTTYPE=image/jpeg:https://churchstpub.com/wp-content/uploads/2025/09/poolnew.jpg
END:VEVENT
BEGIN:VEVENT
DTSTART;VALUE=DATE:20251216
DTEND;VALUE=DATE:20251217
DTSTAMP:20260419T171816
CREATED:20251201T135758Z
LAST-MODIFIED:20251201T135758Z
UID:72420-1765843200-1765929599@churchstpub.com
SUMMARY:SOIRÉE TRIVIA - Tous les mardis **Réservation obligatoire**
DESCRIPTION:$20 – Pichet de Canadian ou Moosehead
URL:https://churchstpub.com/fr/eventscalendar/soiree-trivia-tous-les-mardis-reservation-obligatoire-40/
ATTACH;FMTTYPE=image/jpeg:https://churchstpub.com/wp-content/uploads/2025/01/trivia_night01.jpg
END:VEVENT
BEGIN:VEVENT
DTSTART;VALUE=DATE:20251217
DTEND;VALUE=DATE:20251218
DTSTAMP:20260419T171816
CREATED:20251201T135917Z
LAST-MODIFIED:20251202T160256Z
UID:72422-1765929600-1766015999@churchstpub.com
SUMMARY:Game Night!
DESCRIPTION:
URL:https://churchstpub.com/fr/eventscalendar/soiree-fireball-tous-les-mercredis-18h-22h-32/
ATTACH;FMTTYPE=image/jpeg:https://churchstpub.com/wp-content/uploads/2025/11/boardgames.jpg
END:VEVENT
BEGIN:VEVENT
DTSTART;VALUE=DATE:20251218
DTEND;VALUE=DATE:20251219
DTSTAMP:20260419T171816
CREATED:20251201T140039Z
LAST-MODIFIED:20251201T140039Z
UID:72425-1766016000-1766102399@churchstpub.com
SUMMARY:Jeudi des Confessions
DESCRIPTION:6$ – Cocktails Confessionnels (18h – 21h) | Huitres 1$/ch.
URL:https://churchstpub.com/fr/eventscalendar/jeudi-des-confessions-35/
ATTACH;FMTTYPE=image/jpeg:https://churchstpub.com/wp-content/uploads/2025/04/confessional.jpg
END:VEVENT
BEGIN:VEVENT
DTSTART;VALUE=DATE:20251220
DTEND;VALUE=DATE:20251221
DTSTAMP:20260419T171816
CREATED:20251201T140703Z
LAST-MODIFIED:20251201T140703Z
UID:72430-1766188800-1766275199@churchstpub.com
SUMMARY:Live Music Night featuring: Hestiaa
DESCRIPTION:Cocktail du barman 11$ | Musique en direct 20h
URL:https://churchstpub.com/fr/eventscalendar/live-music-night-featuring-hestiaa/
ATTACH;FMTTYPE=image/jpeg:https://churchstpub.com/wp-content/uploads/2025/09/liveband2.jpg
END:VEVENT
BEGIN:VEVENT
DTSTART;VALUE=DATE:20251221
DTEND;VALUE=DATE:20251222
DTSTAMP:20260419T171816
CREATED:20251201T140818Z
LAST-MODIFIED:20251201T140818Z
UID:72536-1766275200-1766361599@churchstpub.com
SUMMARY:Tous les dimanches – Vin maison 7$ | Pizza (jour/soir) 10$
DESCRIPTION:
URL:https://churchstpub.com/fr/eventscalendar/tous-les-dimanches-vin-maison-7-pizza-jour-soir-10-2/
ATTACH;FMTTYPE=image/jpeg:https://churchstpub.com/wp-content/uploads/2025/12/pizzawine.jpg
END:VEVENT
BEGIN:VEVENT
DTSTART;VALUE=DATE:20251222
DTEND;VALUE=DATE:20251223
DTSTAMP:20260419T171816
CREATED:20251201T140929Z
LAST-MODIFIED:20251201T140929Z
UID:72433-1766361600-1766447999@churchstpub.com
SUMMARY:Lundi billiard GRATUIT toute la journée
DESCRIPTION:15 $ – Ailes de poulet | 20 $ – Pichet Canadian ou Moosehead
URL:https://churchstpub.com/fr/eventscalendar/lundi-billiard-gratuit-toute-la-journee-48/
ATTACH;FMTTYPE=image/jpeg:https://churchstpub.com/wp-content/uploads/2025/09/poolnew.jpg
END:VEVENT
BEGIN:VEVENT
DTSTART;VALUE=DATE:20251223
DTEND;VALUE=DATE:20251224
DTSTAMP:20260419T171816
CREATED:20251201T141059Z
LAST-MODIFIED:20251201T141059Z
UID:72437-1766448000-1766534399@churchstpub.com
SUMMARY:SOIRÉE TRIVIA - Tous les mardis **Réservation obligatoire**
DESCRIPTION:$20 – Pichet de Canadian ou Moosehead
URL:https://churchstpub.com/fr/eventscalendar/soiree-trivia-tous-les-mardis-reservation-obligatoire-41/
ATTACH;FMTTYPE=image/jpeg:https://churchstpub.com/wp-content/uploads/2025/01/trivia_night01.jpg
END:VEVENT
BEGIN:VEVENT
DTSTART;VALUE=DATE:20251224
DTEND;VALUE=DATE:20251225
DTSTAMP:20260419T171816
CREATED:20251201T164832Z
LAST-MODIFIED:20251217T171408Z
UID:72440-1766534400-1766620799@churchstpub.com
SUMMARY:Game Night! - 24 Décembre - Heures d'ouverture: 11h30 à 21h00
DESCRIPTION:24 Décembre – Heures d’ouverture: 11h30 à 21h00
URL:https://churchstpub.com/fr/eventscalendar/soiree-fireball-tous-les-mercredis-18h-22h-33/
ATTACH;FMTTYPE=image/jpeg:https://churchstpub.com/wp-content/uploads/2025/11/boardgames.jpg
END:VEVENT
BEGIN:VEVENT
DTSTART;VALUE=DATE:20251225
DTEND;VALUE=DATE:20251226
DTSTAMP:20260419T171817
CREATED:20251201T165134Z
LAST-MODIFIED:20251217T170418Z
UID:72444-1766620800-1766707199@churchstpub.com
SUMMARY:Jeudi des Confessions - 25 Décembre - Heures d'ouverture: 15h à la fermeture
DESCRIPTION:6$ – Cocktails Confessionnels (18h – 21h) | Huitres 1$/ch.
URL:https://churchstpub.com/fr/eventscalendar/jeudi-des-confessions-36/
ATTACH;FMTTYPE=image/jpeg:https://churchstpub.com/wp-content/uploads/2025/04/confessional.jpg
END:VEVENT
BEGIN:VEVENT
DTSTART;VALUE=DATE:20251226
DTEND;VALUE=DATE:20251227
DTSTAMP:20260419T171817
CREATED:20251217T170530Z
LAST-MODIFIED:20251217T170530Z
UID:72598-1766707200-1766793599@churchstpub.com
SUMMARY:26 Décembre - Heures d'ouverture: 15h à la fermeture
DESCRIPTION:
URL:https://churchstpub.com/fr/eventscalendar/26-decembre-heures-douverture-15h-a-la-fermeture/
END:VEVENT
BEGIN:VEVENT
DTSTART;VALUE=DATE:20251228
DTEND;VALUE=DATE:20251229
DTSTAMP:20260419T171817
CREATED:20251201T165821Z
LAST-MODIFIED:20251202T163254Z
UID:72455-1766880000-1766966399@churchstpub.com
SUMMARY:Tous les dimanches – Vin maison 7$ | Pizza (jour/soir) 10$
DESCRIPTION:
URL:https://churchstpub.com/fr/eventscalendar/tous-les-dimanches-vin-maison-6-pizza-jour-soir-10-11/
ATTACH;FMTTYPE=image/jpeg:https://churchstpub.com/wp-content/uploads/2025/12/pizzawine.jpg
END:VEVENT
BEGIN:VEVENT
DTSTART;VALUE=DATE:20251229
DTEND;VALUE=DATE:20251230
DTSTAMP:20260419T171817
CREATED:20251201T165546Z
LAST-MODIFIED:20251201T165546Z
UID:72447-1766966400-1767052799@churchstpub.com
SUMMARY:Lundi billiard GRATUIT toute la journée
DESCRIPTION:15 $ – Ailes de poulet | 20 $ – Pichet Canadian ou Moosehead
URL:https://churchstpub.com/fr/eventscalendar/lundi-billiard-gratuit-toute-la-journee-49/
ATTACH;FMTTYPE=image/jpeg:https://churchstpub.com/wp-content/uploads/2025/09/poolnew.jpg
END:VEVENT
BEGIN:VEVENT
DTSTART;VALUE=DATE:20251230
DTEND;VALUE=DATE:20251231
DTSTAMP:20260419T171817
CREATED:20251201T165725Z
LAST-MODIFIED:20251201T165725Z
UID:72450-1767052800-1767139199@churchstpub.com
SUMMARY:SOIRÉE TRIVIA - Tous les mardis **Réservation obligatoire**
DESCRIPTION:$20 – Pichet de Canadian ou Moosehead
URL:https://churchstpub.com/fr/eventscalendar/soiree-trivia-tous-les-mardis-reservation-obligatoire-42/
ATTACH;FMTTYPE=image/jpeg:https://churchstpub.com/wp-content/uploads/2025/01/trivia_night01.jpg
END:VEVENT
BEGIN:VEVENT
DTSTART;VALUE=DATE:20251231
DTEND;VALUE=DATE:20260101
DTSTAMP:20260419T171817
CREATED:20251201T170829Z
LAST-MODIFIED:20251202T163329Z
UID:72473-1767139200-1767225599@churchstpub.com
SUMMARY:Game Night!
DESCRIPTION:
URL:https://churchstpub.com/fr/eventscalendar/soiree-fireball-tous-les-mercredis-18h-22h-35/
ATTACH;FMTTYPE=image/jpeg:https://churchstpub.com/wp-content/uploads/2025/11/boardgames.jpg
END:VEVENT
END:VCALENDAR