BEGIN:VCALENDAR
VERSION:2.0
PRODID:-//Churchstpub - ECPv6.15.16//NONSGML v1.0//EN
CALSCALE:GREGORIAN
METHOD:PUBLISH
X-ORIGINAL-URL:https://churchstpub.com/fr/
X-WR-CALDESC:Évènements pour Churchstpub
REFRESH-INTERVAL;VALUE=DURATION:PT1H
X-Robots-Tag:noindex
X-PUBLISHED-TTL:PT1H
BEGIN:VTIMEZONE
TZID:America/New_York
BEGIN:DAYLIGHT
TZOFFSETFROM:-0500
TZOFFSETTO:-0400
TZNAME:EDT
DTSTART:20250309T070000
END:DAYLIGHT
BEGIN:STANDARD
TZOFFSETFROM:-0400
TZOFFSETTO:-0500
TZNAME:EST
DTSTART:20251102T060000
END:STANDARD
BEGIN:DAYLIGHT
TZOFFSETFROM:-0500
TZOFFSETTO:-0400
TZNAME:EDT
DTSTART:20260308T070000
END:DAYLIGHT
BEGIN:STANDARD
TZOFFSETFROM:-0400
TZOFFSETTO:-0500
TZNAME:EST
DTSTART:20261101T060000
END:STANDARD
BEGIN:DAYLIGHT
TZOFFSETFROM:-0500
TZOFFSETTO:-0400
TZNAME:EDT
DTSTART:20270314T070000
END:DAYLIGHT
BEGIN:STANDARD
TZOFFSETFROM:-0400
TZOFFSETTO:-0500
TZNAME:EST
DTSTART:20271107T060000
END:STANDARD
END:VTIMEZONE
BEGIN:VEVENT
DTSTART;VALUE=DATE:20260201
DTEND;VALUE=DATE:20260202
DTSTAMP:20260419T130227
CREATED:20251201T174323Z
LAST-MODIFIED:20251202T163019Z
UID:72525-1769904000-1769990399@churchstpub.com
SUMMARY:Tous les dimanches – Vin maison 7$ | Pizza (jour/soir) 10$
DESCRIPTION:
URL:https://churchstpub.com/fr/eventscalendar/tous-les-dimanches-vin-maison-6-pizza-jour-soir-10-16/
ATTACH;FMTTYPE=image/jpeg:https://churchstpub.com/wp-content/uploads/2025/12/pizzawine.jpg
END:VEVENT
BEGIN:VEVENT
DTSTART;VALUE=DATE:20260202
DTEND;VALUE=DATE:20260203
DTSTAMP:20260419T130227
CREATED:20260130T202210Z
LAST-MODIFIED:20260130T202210Z
UID:72619-1769990400-1770076799@churchstpub.com
SUMMARY:Lundi billiard GRATUIT toute la journée
DESCRIPTION:15 $ – Ailes de poulet | 20 $ – Pichet Canadian ou Moosehead
URL:https://churchstpub.com/fr/eventscalendar/lundi-billiard-gratuit-toute-la-journee-54/
ATTACH;FMTTYPE=image/jpeg:https://churchstpub.com/wp-content/uploads/2025/09/poolnew.jpg
END:VEVENT
BEGIN:VEVENT
DTSTART;VALUE=DATE:20260203
DTEND;VALUE=DATE:20260204
DTSTAMP:20260419T130227
CREATED:20260130T202332Z
LAST-MODIFIED:20260130T202332Z
UID:72622-1770076800-1770163199@churchstpub.com
SUMMARY:Game Night!
DESCRIPTION:
URL:https://churchstpub.com/fr/eventscalendar/game-night-2/
ATTACH;FMTTYPE=image/jpeg:https://churchstpub.com/wp-content/uploads/2025/11/boardgames.jpg
END:VEVENT
BEGIN:VEVENT
DTSTART;VALUE=DATE:20260204
DTEND;VALUE=DATE:20260205
DTSTAMP:20260419T130227
CREATED:20260130T202538Z
LAST-MODIFIED:20260130T202538Z
UID:72625-1770163200-1770249599@churchstpub.com
SUMMARY:SOIRÉE TRIVIA – Tous les mercredis **Réservation obligatoire**
DESCRIPTION:$20 – Pichet de Canadian ou Moosehead
URL:https://churchstpub.com/fr/eventscalendar/soiree-trivia-tous-les-mercredis-reservation-obligatoire/
ATTACH;FMTTYPE=image/jpeg:https://churchstpub.com/wp-content/uploads/2025/12/trivia-1.jpg
END:VEVENT
BEGIN:VEVENT
DTSTART;VALUE=DATE:20260205
DTEND;VALUE=DATE:20260206
DTSTAMP:20260419T130227
CREATED:20260130T203233Z
LAST-MODIFIED:20260130T203233Z
UID:72629-1770249600-1770335999@churchstpub.com
SUMMARY:Jeudi des Confessions - 1er janvier de 15h à la fermeture
DESCRIPTION:6$ – Cocktails Confessionnels (18h – 21h) | Huitres 1$/ch.
URL:https://churchstpub.com/fr/eventscalendar/jeudi-des-confessions-1er-janvier-de-15h-a-la-fermeture/
ATTACH;FMTTYPE=image/jpeg:https://churchstpub.com/wp-content/uploads/2025/04/confessional.jpg
END:VEVENT
BEGIN:VEVENT
DTSTART;VALUE=DATE:20260208
DTEND;VALUE=DATE:20260209
DTSTAMP:20260419T130227
CREATED:20260130T203345Z
LAST-MODIFIED:20260130T203345Z
UID:72632-1770508800-1770595199@churchstpub.com
SUMMARY:Tous les dimanches – Vin maison 7$ | Pizza (jour/soir) 10$
DESCRIPTION:
URL:https://churchstpub.com/fr/eventscalendar/tous-les-dimanches-vin-maison-7-pizza-jour-soir-10-3/
ATTACH;FMTTYPE=image/jpeg:https://churchstpub.com/wp-content/uploads/2025/12/pizzawine.jpg
END:VEVENT
BEGIN:VEVENT
DTSTART;VALUE=DATE:20260209
DTEND;VALUE=DATE:20260210
DTSTAMP:20260419T130227
CREATED:20260130T203456Z
LAST-MODIFIED:20260130T203456Z
UID:72636-1770595200-1770681599@churchstpub.com
SUMMARY:Lundi billiard GRATUIT toute la journée
DESCRIPTION:15 $ – Ailes de poulet | 20 $ – Pichet Canadian ou Moosehead
URL:https://churchstpub.com/fr/eventscalendar/lundi-billiard-gratuit-toute-la-journee-55/
ATTACH;FMTTYPE=image/jpeg:https://churchstpub.com/wp-content/uploads/2025/09/poolnew.jpg
END:VEVENT
BEGIN:VEVENT
DTSTART;VALUE=DATE:20260210
DTEND;VALUE=DATE:20260211
DTSTAMP:20260419T130227
CREATED:20260130T203551Z
LAST-MODIFIED:20260130T203551Z
UID:72639-1770681600-1770767999@churchstpub.com
SUMMARY:Game Night!
DESCRIPTION:
URL:https://churchstpub.com/fr/eventscalendar/game-night-3/
ATTACH;FMTTYPE=image/jpeg:https://churchstpub.com/wp-content/uploads/2025/11/boardgames.jpg
END:VEVENT
BEGIN:VEVENT
DTSTART;VALUE=DATE:20260211
DTEND;VALUE=DATE:20260212
DTSTAMP:20260419T130227
CREATED:20260130T203714Z
LAST-MODIFIED:20260130T203714Z
UID:72640-1770768000-1770854399@churchstpub.com
SUMMARY:SOIRÉE TRIVIA – Tous les mercredis **Réservation obligatoire**
DESCRIPTION:$20 – Pichet de Canadian ou Moosehead
URL:https://churchstpub.com/fr/eventscalendar/soiree-trivia-tous-les-mercredis-reservation-obligatoire-2/
ATTACH;FMTTYPE=image/jpeg:https://churchstpub.com/wp-content/uploads/2025/12/trivia-1.jpg
END:VEVENT
BEGIN:VEVENT
DTSTART;VALUE=DATE:20260212
DTEND;VALUE=DATE:20260213
DTSTAMP:20260419T130227
CREATED:20260130T204001Z
LAST-MODIFIED:20260130T204001Z
UID:72644-1770854400-1770940799@churchstpub.com
SUMMARY:Jeudi des Confessions - 1er janvier de 15h à la fermeture
DESCRIPTION:6$ – Cocktails Confessionnels (18h – 21h) | Huitres 1$/ch.
URL:https://churchstpub.com/fr/eventscalendar/jeudi-des-confessions-1er-janvier-de-15h-a-la-fermeture-2/
ATTACH;FMTTYPE=image/jpeg:https://churchstpub.com/wp-content/uploads/2025/04/confessional.jpg
END:VEVENT
BEGIN:VEVENT
DTSTART;VALUE=DATE:20260214
DTEND;VALUE=DATE:20260215
DTSTAMP:20260419T130227
CREATED:20260130T211420Z
LAST-MODIFIED:20260130T211420Z
UID:72649-1771027200-1771113599@churchstpub.com
SUMMARY:Party de la Saint-Valentin !
DESCRIPTION:
URL:https://churchstpub.com/fr/eventscalendar/party-de-la-saint-valentin/
ATTACH;FMTTYPE=image/jpeg:https://churchstpub.com/wp-content/uploads/2026/01/valentines-day-party-instagram-story-post-Made-with-PosterMyWall.jpg
END:VEVENT
BEGIN:VEVENT
DTSTART;VALUE=DATE:20260215
DTEND;VALUE=DATE:20260216
DTSTAMP:20260419T130227
CREATED:20260211T185321Z
LAST-MODIFIED:20260211T185357Z
UID:72656-1771113600-1771199999@churchstpub.com
SUMMARY:Tous les dimanches – Vin maison 7$ | Pizza (jour/soir) 10$
DESCRIPTION:
URL:https://churchstpub.com/fr/eventscalendar/tous-les-dimanches-vin-maison-7-pizza-jour-soir-10-4/
ATTACH;FMTTYPE=image/jpeg:https://churchstpub.com/wp-content/uploads/2025/06/dimanches_churchstpub.jpg
END:VEVENT
BEGIN:VEVENT
DTSTART;VALUE=DATE:20260216
DTEND;VALUE=DATE:20260217
DTSTAMP:20260419T130227
CREATED:20260211T185153Z
LAST-MODIFIED:20260211T185153Z
UID:72653-1771200000-1771286399@churchstpub.com
SUMMARY:Lundi billiard GRATUIT toute la journée
DESCRIPTION:15 $ – Ailes de poulet | 20 $ – Pichet Canadian ou Moosehead
URL:https://churchstpub.com/fr/eventscalendar/lundi-billiard-gratuit-toute-la-journee-56/
ATTACH;FMTTYPE=image/jpeg:https://churchstpub.com/wp-content/uploads/2025/09/poolnew.jpg
END:VEVENT
BEGIN:VEVENT
DTSTART;VALUE=DATE:20260217
DTEND;VALUE=DATE:20260218
DTSTAMP:20260419T130227
CREATED:20260211T185458Z
LAST-MODIFIED:20260211T185458Z
UID:72660-1771286400-1771372799@churchstpub.com
SUMMARY:Game Night!
DESCRIPTION:
URL:https://churchstpub.com/fr/eventscalendar/game-night-4/
ATTACH;FMTTYPE=image/jpeg:https://churchstpub.com/wp-content/uploads/2025/11/boardgames.jpg
END:VEVENT
BEGIN:VEVENT
DTSTART;VALUE=DATE:20260218
DTEND;VALUE=DATE:20260219
DTSTAMP:20260419T130227
CREATED:20260211T185722Z
LAST-MODIFIED:20260211T185722Z
UID:72663-1771372800-1771459199@churchstpub.com
SUMMARY:SOIRÉE TRIVIA – Tous les mercredis **Réservation obligatoire**
DESCRIPTION:$20 – Pichet de Canadian ou Moosehead
URL:https://churchstpub.com/fr/eventscalendar/soiree-trivia-tous-les-mercredis-reservation-obligatoire-3/
ATTACH;FMTTYPE=image/jpeg:https://churchstpub.com/wp-content/uploads/2025/12/trivia-1.jpg
END:VEVENT
BEGIN:VEVENT
DTSTART;VALUE=DATE:20260219
DTEND;VALUE=DATE:20260220
DTSTAMP:20260419T130227
CREATED:20260211T190111Z
LAST-MODIFIED:20260211T190111Z
UID:72671-1771459200-1771545599@churchstpub.com
SUMMARY:Jeudi des Confessions - 1er janvier de 15h à la fermeture
DESCRIPTION:6$ – Cocktails Confessionnels (18h – 21h) | Huitres 1$/ch.
URL:https://churchstpub.com/fr/eventscalendar/jeudi-des-confessions-1er-janvier-de-15h-a-la-fermeture-3/
ATTACH;FMTTYPE=image/jpeg:https://churchstpub.com/wp-content/uploads/2025/04/confessional.jpg
END:VEVENT
BEGIN:VEVENT
DTSTART;VALUE=DATE:20260222
DTEND;VALUE=DATE:20260223
DTSTAMP:20260419T130227
CREATED:20260211T191329Z
LAST-MODIFIED:20260211T191329Z
UID:72673-1771718400-1771804799@churchstpub.com
SUMMARY:Tous les dimanches – Vin maison 7$ | Pizza (jour/soir) 10$
DESCRIPTION:
URL:https://churchstpub.com/fr/eventscalendar/tous-les-dimanches-vin-maison-7-pizza-jour-soir-10-5/
ATTACH;FMTTYPE=image/jpeg:https://churchstpub.com/wp-content/uploads/2025/12/pizzawine.jpg
END:VEVENT
BEGIN:VEVENT
DTSTART;VALUE=DATE:20260223
DTEND;VALUE=DATE:20260224
DTSTAMP:20260419T130227
CREATED:20260211T191512Z
LAST-MODIFIED:20260211T191512Z
UID:72676-1771804800-1771891199@churchstpub.com
SUMMARY:Lundi billiard GRATUIT toute la journée
DESCRIPTION:15 $ – Ailes de poulet | 20 $ – Pichet Canadian ou Moosehead
URL:https://churchstpub.com/fr/eventscalendar/lundi-billiard-gratuit-toute-la-journee-57/
ATTACH;FMTTYPE=image/jpeg:https://churchstpub.com/wp-content/uploads/2025/09/poolnew.jpg
END:VEVENT
BEGIN:VEVENT
DTSTART;VALUE=DATE:20260224
DTEND;VALUE=DATE:20260225
DTSTAMP:20260419T130227
CREATED:20260211T191656Z
LAST-MODIFIED:20260211T191656Z
UID:72679-1771891200-1771977599@churchstpub.com
SUMMARY:Game Night!
DESCRIPTION:
URL:https://churchstpub.com/fr/eventscalendar/game-night-5/
ATTACH;FMTTYPE=image/jpeg:https://churchstpub.com/wp-content/uploads/2025/11/boardgames.jpg
END:VEVENT
BEGIN:VEVENT
DTSTART;VALUE=DATE:20260225
DTEND;VALUE=DATE:20260226
DTSTAMP:20260419T130227
CREATED:20260211T191850Z
LAST-MODIFIED:20260211T191850Z
UID:72683-1771977600-1772063999@churchstpub.com
SUMMARY:SOIRÉE TRIVIA – Tous les mercredis **Réservation obligatoire**
DESCRIPTION:$20 – Pichet de Canadian ou Moosehead
URL:https://churchstpub.com/fr/eventscalendar/soiree-trivia-tous-les-mercredis-reservation-obligatoire-4/
ATTACH;FMTTYPE=image/jpeg:https://churchstpub.com/wp-content/uploads/2025/12/trivia-1.jpg
END:VEVENT
BEGIN:VEVENT
DTSTART;VALUE=DATE:20260226
DTEND;VALUE=DATE:20260227
DTSTAMP:20260419T130227
CREATED:20260211T192017Z
LAST-MODIFIED:20260227T193942Z
UID:72686-1772064000-1772150399@churchstpub.com
SUMMARY:Jeudi des Confessions
DESCRIPTION:6$ – Cocktails Confessionnels (18h – 21h) | Huitres 1$/ch.
URL:https://churchstpub.com/fr/eventscalendar/jeudi-des-confessions-1er-janvier-de-15h-a-la-fermeture-4/
ATTACH;FMTTYPE=image/jpeg:https://churchstpub.com/wp-content/uploads/2025/04/confessional.jpg
END:VEVENT
END:VCALENDAR